BEGIN:VCALENDAR
VERSION:2.0
PRODID:-//Studio IRIS - ECPv6.6.4.1//NONSGML v1.0//EN
CALSCALE:GREGORIAN
METHOD:PUBLISH
X-WR-CALNAME:Studio IRIS
X-ORIGINAL-URL:https://www.mediazioneiris.com
X-WR-CALDESC:Eventi per Studio IRIS
REFRESH-INTERVAL;VALUE=DURATION:PT1H
X-Robots-Tag:noindex
X-PUBLISHED-TTL:PT1H
BEGIN:VTIMEZONE
TZID:UTC
BEGIN:STANDARD
TZOFFSETFROM:+0000
TZOFFSETTO:+0000
TZNAME:UTC
DTSTART:20230101T000000
END:STANDARD
END:VTIMEZONE
BEGIN:VEVENT
DTSTART;TZID=UTC:20251118T093000
DTEND;TZID=UTC:20251118T133000
DTSTAMP:20260420T154135
CREATED:20251114T203615Z
LAST-MODIFIED:20251114T203615Z
UID:5157-1763458200-1763472600@www.mediazioneiris.com
SUMMARY:Corso SPAZI E PROGRAMMI DI GIUSTIZIA RIPARATIVA- SPAZI E SERVIZI PER LE VITTIME
DESCRIPTION:
URL:https://www.mediazioneiris.com/event/corso-spazi-e-programmi-di-giustizia-riparativa-spazi-e-servizi-per-le-vittime/
CATEGORIES:Formazione
END:VEVENT
BEGIN:VEVENT
DTSTART;TZID=UTC:20251107T090000
DTEND;TZID=UTC:20251109T190000
DTSTAMP:20260420T154135
CREATED:20250818T192415Z
LAST-MODIFIED:20250907T181612Z
UID:5078-1762506000-1762714800@www.mediazioneiris.com
SUMMARY:𝐂𝐨𝐫𝐬𝐨 𝐝𝐢 𝐩𝐞𝐫𝐟𝐞𝐳𝐢𝐨𝐧𝐚𝐦𝐞𝐧𝐭𝐨 𝐢𝐧 𝐀𝐑𝐓 𝐂𝐎𝐔𝐍𝐒𝐄𝐋𝐈𝐍𝐆 𝐔𝐌𝐀𝐍𝐈𝐒𝐓𝐈𝐂𝐎 𝐕𝐈𝐓𝐓𝐈𝐌𝐎𝐋𝐎𝐆𝐈𝐂𝐎 
DESCRIPTION:𝐂𝐨𝐫𝐬𝐨 𝐝𝐢 𝐩𝐞𝐫𝐟𝐞𝐳𝐢𝐨𝐧𝐚𝐦𝐞𝐧𝐭𝐨 𝐢𝐧 𝐀𝐑𝐓 𝐂𝐎𝐔𝐍𝐒𝐄𝐋𝐈𝐍𝐆 𝐔𝐌𝐀𝐍𝐈𝐒𝐓𝐈𝐂𝐎 𝐕𝐈𝐓𝐓𝐈𝐌𝐎𝐋𝐎𝐆𝐈𝐂𝐎  𝐎𝐩𝐞𝐫𝐚𝐭𝐨𝐫𝐞 𝐞𝐬𝐩𝐞𝐫𝐭𝐨 𝐧𝐞𝐥𝐥’𝐚𝐬𝐜𝐨𝐥𝐭𝐨 𝐞 𝐧𝐞𝐥𝐥𝐚 𝐫𝐞𝐥𝐚𝐳𝐢𝐨𝐧𝐞 𝐝’𝐚𝐢𝐮𝐭𝐨 𝐚𝐥𝐥𝐞 𝐯𝐢𝐭𝐭𝐢𝐦𝐞 𝐝𝐢 𝐫𝐞𝐚𝐭𝐨 
URL:https://www.mediazioneiris.com/event/%f0%9d%90%82%f0%9d%90%a8%f0%9d%90%ab%f0%9d%90%ac%f0%9d%90%a8-%f0%9d%90%9d%f0%9d%90%a2-%f0%9d%90%a9%f0%9d%90%9e%f0%9d%90%ab%f0%9d%90%9f%f0%9d%90%9e%f0%9d%90%b3%f0%9d%90%a2%f0%9d%90%a8%f0%9d%90%a7/
CATEGORIES:Formazione
END:VEVENT
BEGIN:VEVENT
DTSTART;TZID=UTC:20251026T090000
DTEND;TZID=UTC:20251026T190000
DTSTAMP:20260420T154135
CREATED:20250920T165000Z
LAST-MODIFIED:20250920T165000Z
UID:5113-1761469200-1761505200@www.mediazioneiris.com
SUMMARY:𝐂𝐨𝐫𝐬𝐨 𝐝𝐢 𝐩𝐞𝐫𝐟𝐞𝐳𝐢𝐨𝐧𝐚𝐦𝐞𝐧𝐭𝐨 𝐢𝐧 𝐀𝐑𝐓 𝐂𝐎𝐔𝐍𝐒𝐄𝐋𝐈𝐍𝐆 𝐔𝐌𝐀𝐍𝐈𝐒𝐓𝐈𝐂𝐎 𝐕𝐈𝐓𝐓𝐈𝐌𝐎𝐋𝐎𝐆𝐈𝐂𝐎
DESCRIPTION:Modulo 4) ELEMENTI DI VITTIMOLOGIA \n𝐂𝐨𝐫𝐬𝐨 𝐝𝐢 𝐩𝐞𝐫𝐟𝐞𝐳𝐢𝐨𝐧𝐚𝐦𝐞𝐧𝐭𝐨 𝐢𝐧 𝐀𝐑𝐓 𝐂𝐎𝐔𝐍𝐒𝐄𝐋𝐈𝐍𝐆 𝐔𝐌𝐀𝐍𝐈𝐒𝐓𝐈𝐂𝐎 𝐕𝐈𝐓𝐓𝐈𝐌𝐎𝐋𝐎𝐆𝐈𝐂𝐎
URL:https://www.mediazioneiris.com/event/%f0%9d%90%82%f0%9d%90%a8%f0%9d%90%ab%f0%9d%90%ac%f0%9d%90%a8-%f0%9d%90%9d%f0%9d%90%a2-%f0%9d%90%a9%f0%9d%90%9e%f0%9d%90%ab%f0%9d%90%9f%f0%9d%90%9e%f0%9d%90%b3%f0%9d%90%a2%f0%9d%90%a8%f0%9d%90%a7-7/
CATEGORIES:Formazione
END:VEVENT
BEGIN:VEVENT
DTSTART;TZID=UTC:20250308T093000
DTEND;TZID=UTC:20250308T190000
DTSTAMP:20260420T154135
CREATED:20250314T111252Z
LAST-MODIFIED:20250314T111352Z
UID:5015-1741426200-1741460400@www.mediazioneiris.com
SUMMARY:Corso in ART COUNSELING UMANISTICO VITTIMOLOGICO
DESCRIPTION:Corso di perfezionamento in ART COUNSELING UMANISTICO VITTIMOLOGICO – Operatore esperto nella relazione d’aiuto \n  \nModulo 1) RELAZIONE D’AIUTO | tot. 8 ore – 1° marzo 2025 | svolgimento da remoto \nore 9.30/13.30 | Dott.ssa Francesca Genzano \nConoscenze e competenze nell’ascolto e nella relazione d’aiuto \nEtica dei servizi alla persona e della relazione d’aiuto \nRelazione d’aiuto e presa in carico: analogie e differenze \nore 15.00/17.00 | Dott.ssa Francesca Genzano \nGli strumenti della relazione d’aiuto \nore 17.00/19.00 | Dott.ssa Isabella Mastropasqua \nIl colloquio nella relazione d’aiuto: struttura\, funzione\, tipologie
URL:https://www.mediazioneiris.com/event/corso-in-art-counseling-umanistico-vittimologico-2/
CATEGORIES:Formazione
END:VEVENT
BEGIN:VEVENT
DTSTART;TZID=UTC:20250307T150000
DTEND;TZID=UTC:20250308T190000
DTSTAMP:20260420T154135
CREATED:20241216T142901Z
LAST-MODIFIED:20250115T192013Z
UID:4979-1741359600-1741460400@www.mediazioneiris.com
SUMMARY:Corso in COORDINAZIONE GENITORIALE
DESCRIPTION:
URL:https://www.mediazioneiris.com/event/corso-in-coordinazione-genitoriale-3/
CATEGORIES:Formazione
END:VEVENT
BEGIN:VEVENT
DTSTART;TZID=UTC:20250301T093000
DTEND;TZID=UTC:20250301T190000
DTSTAMP:20260420T154135
CREATED:20250115T191158Z
LAST-MODIFIED:20250224T080618Z
UID:4992-1740821400-1740855600@www.mediazioneiris.com
SUMMARY:Corso in ART COUNSELING UMANISTICO VITTIMOLOGICO
DESCRIPTION: 
URL:https://www.mediazioneiris.com/event/corso-in-art-counseling-umanistico-vittimologico/
CATEGORIES:Formazione
END:VEVENT
BEGIN:VEVENT
DTSTART;TZID=UTC:20241218T180000
DTEND;TZID=UTC:20241218T190000
DTSTAMP:20260420T154135
CREATED:20241212T172054Z
LAST-MODIFIED:20241216T141132Z
UID:4962-1734544800-1734548400@www.mediazioneiris.com
SUMMARY:Presentazione Corso COORDINAZIONE GENITORIALE
DESCRIPTION:  \nPRESENTAZIONE corso di alta formazione in COORDINAZIONE GENITORIALE  \n18 Dicembre 2024 ore 18.00 su piattaforma ZOOM \nper partecipare\, cliccare qui \nhttps://us02web.zoom.us/j/85097800419?pwd=Sc730TZa2dH9CRssJALgAX9gTfaoe7.1 \nID riunione: 850 9780 0419 \nCodice d’accesso: 463724
URL:https://www.mediazioneiris.com/event/presentazione-corso-coordinazione-genitoriale/
CATEGORIES:Formazione
END:VEVENT
BEGIN:VEVENT
DTSTART;TZID=UTC:20241203T093000
DTEND;TZID=UTC:20241203T133000
DTSTAMP:20260420T154135
CREATED:20241128T114144Z
LAST-MODIFIED:20241128T114144Z
UID:4950-1733218200-1733232600@www.mediazioneiris.com
SUMMARY:Percorso di sensibilizzazione SPAZI E PROGRAMMI DI GIUSTIZIA RIPARATIVA _ Matera
DESCRIPTION:
URL:https://www.mediazioneiris.com/event/percorso-di-sensibilizzazione-spazi-e-programmi-di-giustizia-riparativa-_-matera-3/
CATEGORIES:Formazione
END:VEVENT
BEGIN:VEVENT
DTSTART;TZID=UTC:20241126T093000
DTEND;TZID=UTC:20241126T133000
DTSTAMP:20260420T154135
CREATED:20241009T134131Z
LAST-MODIFIED:20241114T131255Z
UID:4884-1732613400-1732627800@www.mediazioneiris.com
SUMMARY:Percorso di sensibilizzazione SPAZI E PROGRAMMI DI GIUSTIZIA RIPARATIVA _ Matera
DESCRIPTION:
URL:https://www.mediazioneiris.com/event/percorso-di-sensibilizzazione-spazi-e-programmi-di-giustizia-riparativa-_-matera/
CATEGORIES:Formazione
END:VEVENT
BEGIN:VEVENT
DTSTART;TZID=UTC:20241121T093000
DTEND;TZID=UTC:20241121T183000
DTSTAMP:20260420T154135
CREATED:20241018T182436Z
LAST-MODIFIED:20241114T144938Z
UID:4899-1732181400-1732213800@www.mediazioneiris.com
SUMMARY:evento celebrativo Settimana Internazionale della Giustizia Riparativa _ TARANTO
DESCRIPTION:Scarica BROCHURE CON PROGRAMMA\n21novembre2024_Celebrazione_Settimana Giustizia Riparativa _ TARANTO_ divulgabile SI \n 
URL:https://www.mediazioneiris.com/event/evento-celebrativo-settimana-internazionale-della-giustizia-riparativa-_-taranto/
LOCATION:Comune di Taranto\, Vico Municipio 1\, Taranto\, Italy
CATEGORIES:Evento culturale
END:VEVENT
BEGIN:VEVENT
DTSTART;TZID=UTC:20241115T093000
DTEND;TZID=UTC:20241115T133000
DTSTAMP:20260420T154135
CREATED:20241114T113811Z
LAST-MODIFIED:20241114T113811Z
UID:4918-1731663000-1731677400@www.mediazioneiris.com
SUMMARY:Percorso di sensibilizzazione SPAZI E PROGRAMMI DI GIUSTIZIA RIPARATIVA _ Matera
DESCRIPTION:
URL:https://www.mediazioneiris.com/event/percorso-di-sensibilizzazione-spazi-e-programmi-di-giustizia-riparativa-_-matera-2/
CATEGORIES:Formazione
END:VEVENT
BEGIN:VEVENT
DTSTART;TZID=UTC:20240927T093000
DTEND;TZID=UTC:20240927T123000
DTSTAMP:20260420T154135
CREATED:20240916T114431Z
LAST-MODIFIED:20240916T114431Z
UID:4833-1727429400-1727440200@www.mediazioneiris.com
SUMMARY:IN VIAGGIO NELLA GIUSTIZIA RIPARATIVA..PER COMPRENDERE L’OLTRE – Taranto
DESCRIPTION:
URL:https://www.mediazioneiris.com/event/in-viaggio-nella-giustizia-riparativa-per-comprendere-loltre-taranto-4/
LOCATION:PALAZZO DI CITTA’ DI TARANTO\, Vicolo Municipio 6\, Taranto\, Italia
CATEGORIES:Formazione
END:VEVENT
BEGIN:VEVENT
DTSTART;TZID=UTC:20240924T093000
DTEND;TZID=UTC:20240924T133000
DTSTAMP:20260420T154135
CREATED:20240916T114259Z
LAST-MODIFIED:20240916T114259Z
UID:4831-1727170200-1727184600@www.mediazioneiris.com
SUMMARY:IN VIAGGIO NELLA GIUSTIZIA RIPARATIVA..PER COMPRENDERE L’OLTRE – Taranto
DESCRIPTION:
URL:https://www.mediazioneiris.com/event/in-viaggio-nella-giustizia-riparativa-per-comprendere-loltre-taranto-3/
CATEGORIES:Formazione
END:VEVENT
BEGIN:VEVENT
DTSTART;TZID=UTC:20240919T093000
DTEND;TZID=UTC:20240919T123000
DTSTAMP:20260420T154135
CREATED:20240916T114122Z
LAST-MODIFIED:20240916T114122Z
UID:4829-1726738200-1726749000@www.mediazioneiris.com
SUMMARY:IN VIAGGIO NELLA GIUSTIZIA RIPARATIVA..PER COMPRENDERE L’OLTRE – Taranto
DESCRIPTION:
URL:https://www.mediazioneiris.com/event/in-viaggio-nella-giustizia-riparativa-per-comprendere-loltre-taranto-2/
CATEGORIES:Formazione
END:VEVENT
BEGIN:VEVENT
DTSTART;TZID=UTC:20240913T093000
DTEND;TZID=UTC:20240913T133000
DTSTAMP:20260420T154135
CREATED:20240916T113917Z
LAST-MODIFIED:20240916T113917Z
UID:4827-1726219800-1726234200@www.mediazioneiris.com
SUMMARY:IN VIAGGIO NELLA GIUSTIZIA RIPARATIVA..PER COMPRENDERE L'OLTRE - Taranto
DESCRIPTION:
URL:https://www.mediazioneiris.com/event/in-viaggio-nella-giustizia-riparativa-per-comprendere-loltre-taranto/
CATEGORIES:Formazione
END:VEVENT
BEGIN:VEVENT
DTSTART;TZID=UTC:20240911T093000
DTEND;TZID=UTC:20240911T140000
DTSTAMP:20260420T154135
CREATED:20240916T113702Z
LAST-MODIFIED:20240916T113702Z
UID:4822-1726047000-1726063200@www.mediazioneiris.com
SUMMARY:Conferenza stampa presentazione "Centro per la Giustizia Riparativa di Taranto" e IN VIAGGIO NELLA GIUSTIZIA RIPARATIVA..PER COMPRENDERE L'OLTRE
DESCRIPTION:
URL:https://www.mediazioneiris.com/event/conferenza-stampa-presentazione-centro-per-la-giustizia-riparativa-di-taranto-e-in-viaggio-nella-giustizia-riparativa-per-comprendere-loltre/
LOCATION:PALAZZO DI CITTA’ DI TARANTO\, Vicolo Municipio 6\, Taranto\, Italia
CATEGORIES:Conferenza stampa,Formazione
END:VEVENT
BEGIN:VEVENT
DTSTART;TZID=UTC:20240910T093000
DTEND;TZID=UTC:20240910T143000
DTSTAMP:20260420T154135
CREATED:20240813T173232Z
LAST-MODIFIED:20240813T173232Z
UID:4810-1725960600-1725978600@www.mediazioneiris.com
SUMMARY:Corso di aggiornamento STRUMENTI E PROGRAMMI DI GIUSTIZIA RIPARATIVA
DESCRIPTION:
URL:https://www.mediazioneiris.com/event/corso-di-aggiornamento-strumenti-e-programmi-di-giustizia-riparativa-3/
CATEGORIES:Formazione
END:VEVENT
BEGIN:VEVENT
DTSTART;TZID=UTC:20240413T173000
DTEND;TZID=UTC:20240413T193000
DTSTAMP:20260420T154135
CREATED:20240223T174333Z
LAST-MODIFIED:20240223T174333Z
UID:4613-1713029400-1713036600@www.mediazioneiris.com
SUMMARY:Presentazione libro LA GIUSTIZIA RIPARATIVA | ROMA
DESCRIPTION:
URL:https://www.mediazioneiris.com/event/presentazione-libro-la-giustizia-riparativa-roma/
LOCATION:ROMA
CATEGORIES:Presentazione libro
END:VEVENT
BEGIN:VEVENT
DTSTART;TZID=UTC:20240315T163000
DTEND;TZID=UTC:20240315T190000
DTSTAMP:20260420T154135
CREATED:20240115T164131Z
LAST-MODIFIED:20240301T200426Z
UID:4383-1710520200-1710529200@www.mediazioneiris.com
SUMMARY:Presentazione libro sulla Giustizia Riparativa a CAGLIARI
DESCRIPTION:
URL:https://www.mediazioneiris.com/event/presentazione-libro-a-cagliari/
LOCATION:Biblioteca Comunale Generale e di Studi Sardi – MEM Mediateca del Mediterraneo\, Via Mameli 164\, Cagliari\, Italia
CATEGORIES:Presentazione libro
END:VEVENT
BEGIN:VEVENT
DTSTART;TZID=UTC:20240304T150000
DTEND;TZID=UTC:20240304T200000
DTSTAMP:20260420T154135
CREATED:20240117T095202Z
LAST-MODIFIED:20240117T095202Z
UID:4401-1709564400-1709582400@www.mediazioneiris.com
SUMMARY:7°incontro | Corso LA VIOLENZA DOMESTICA\, INTRAFAMILIARE E DI GENERE
DESCRIPTION:
URL:https://www.mediazioneiris.com/event/7incontro-corso-la-violenza-domestica-intrafamiliare-e-di-genere/
CATEGORIES:Formazione
END:VEVENT
BEGIN:VEVENT
DTSTART;TZID=UTC:20240301T150000
DTEND;TZID=UTC:20240301T200000
DTSTAMP:20260420T154135
CREATED:20240117T094936Z
LAST-MODIFIED:20240117T095007Z
UID:4399-1709305200-1709323200@www.mediazioneiris.com
SUMMARY:6°incontro | Corso LA VIOLENZA DOMESTICA\, INTRAFAMILIARE E DI GENERE
DESCRIPTION:
URL:https://www.mediazioneiris.com/event/6incontro-corso-la-violenza-domestica-intrafamiliare-e-di-genere/
CATEGORIES:Formazione
END:VEVENT
BEGIN:VEVENT
DTSTART;TZID=UTC:20240219T150000
DTEND;TZID=UTC:20240219T190000
DTSTAMP:20260420T154135
CREATED:20240117T083428Z
LAST-MODIFIED:20240124T081618Z
UID:4395-1708354800-1708369200@www.mediazioneiris.com
SUMMARY:4°incontro | Corso LA VIOLENZA DOMESTICA\, INTRAFAMILIARE E DI GENERE
DESCRIPTION:Scarica MODULO DI ISCRIZIONE \nModulo iscrizione Corso Aggiornamento MF 2024_VIOLENZA DOMESTICA\, INTRAFAMILIARE E DI GENERE
URL:https://www.mediazioneiris.com/event/4incontro-corso-la-violenza-domestica-intrafamiliare-e-di-genere/
CATEGORIES:Formazione
END:VEVENT
BEGIN:VEVENT
DTSTART;TZID=UTC:20231123T150000
DTEND;TZID=UTC:20231123T200000
DTSTAMP:20260420T154135
CREATED:20231101T223423Z
LAST-MODIFIED:20231117T201409Z
UID:4273-1700751600-1700769600@www.mediazioneiris.com
SUMMARY:RESTORATIVE JUSTICE.IT Basilicata | celebrativo della Settimana Mondiale della Giustizia Riparativa
DESCRIPTION:𝟐𝟑 𝐍𝐨𝐯𝐞𝐦𝐛𝐫𝐞 𝟐𝟎𝟐𝟑 𝐨𝐫𝐞 𝟏𝟓.𝟎𝟎 a Potenza presso la Sala Minerva del Grande Albergo di Potenza  \n𝐒𝐢𝐦𝐩𝐨𝐬𝐢𝐨 “𝐕𝐄𝐑𝐈𝐓𝐀’ 𝐄 𝐌𝐄𝐌𝐎𝐑𝐈𝐀 𝐍𝐄𝐋𝐋𝐎 𝐒𝐏𝐀𝐙𝐈𝐎 𝐃𝐄𝐋𝐋𝐀 𝐆𝐈𝐔𝐒𝐓𝐈𝐙𝐈𝐀 𝐑𝐈𝐏𝐀𝐑𝐀𝐓𝐈𝐕𝐀: 𝐕𝐄𝐑𝐒𝐎 𝐋𝐀 𝐏𝐎-𝐄𝐓𝐈𝐂𝐀 𝐃𝐄𝐋𝐋𝐀 𝐑𝐄𝐒𝐏𝐎𝐍𝐒𝐀𝐁𝐈𝐋𝐈𝐓𝐀’” \nevento accreditato ORDINE REGIONALE ASSSISTENTI SOCIALI DI BASILICATA | ID 53921 \nriconosciuti n. 4 crediti di cui 1 deontologico per Assistenti Sociali  (solo partecipazione IN PRESENZA) \n \nBROCHURE dell’iniziativa con tutti gli eventi 19/24 Novembre 2023 \nRestorativeJusticeWeekBASILICATA_brochure2023 \n  \n  \n 
URL:https://www.mediazioneiris.com/event/restorative-justice-it-basilicata-celebrativo-della-settimana-mondiale-della-giustizia-riparativa-5/
LOCATION:Grande Albergo Potenza\, corso 18 agosto 1860 n.46\, Potenza\, Italia
CATEGORIES:Evento culturale,Formazione
END:VEVENT
BEGIN:VEVENT
DTSTART;TZID=UTC:20231123T093000
DTEND;TZID=UTC:20231123T130000
DTSTAMP:20260420T154135
CREATED:20231030T155422Z
LAST-MODIFIED:20231109T170100Z
UID:4251-1700731800-1700744400@www.mediazioneiris.com
SUMMARY:RESTORATIVE JUSTICE.IT Basilicata | celebrativo della Settimana Mondiale della Giustizia Riparativa
DESCRIPTION:PREVENZIONE\, PROTEZIONE E RIPARAZIONE NEI CASI DI VIOLENZA DOMESTICA\, INTRAFAMILIARE E DI GENERE \ningresso libero con partecipazione gratuita\, senza necessità di iscrizione \nZOOM Meeting: https://us02web.zoom.us/j/89563478474?pwd=eS8vR0tCczBQVUVZaURHS0hxNkhUZz09\nID riunione: 895 6347 8474 | Codice d’accesso: 304718 \n  \nEvento accreditato presso Ordine Regionale degli Assistenti Sociali di Basilicata: riconosciuti n. 2 crediti formativi (ID 53922) \n \n  \n 
URL:https://www.mediazioneiris.com/event/restorative-justice-it-basilicata-celebrativo-della-settimana-mondiale-della-giustizia-riparativa-2/
CATEGORIES:Formazione,Presentazione libro
END:VEVENT
BEGIN:VEVENT
DTSTART;TZID=UTC:20231122T170000
DTEND;TZID=UTC:20231122T190000
DTSTAMP:20260420T154135
CREATED:20231101T180745Z
LAST-MODIFIED:20231117T201001Z
UID:4256-1700672400-1700679600@www.mediazioneiris.com
SUMMARY:RESTORATIVE JUSTICE.IT Basilicata | celebrativo della Settimana Mondiale della Giustizia Riparativa
DESCRIPTION:22 Novembre 2023 ore 17.00/19.00 | Sala Minerva Grande Albergo di Potenza \nSeminario SULLA VIOLENZA DOMESTICA\, INTRAFAMILIARE E DI GENERE: STRUMENTI E METODI PER L’EMPOWERMENT PROFESSIONALE NEI SERVIZI ALLA PERSONA E ALLA FAMIGLIA \nEvento accreditato Ordine Regionale Assistenti Sociali di Basilicata (ID 53918 – 2 crediti) \nEvento in corso di riconoscimento presso AIMeF Associazione Italiana Mediatori Familiari \nSarà trasmessa diretta streaming dalla pagina Facebook di Studio IRIS  https://www.facebook.com/StudioIRIS.mediazione  \nper poter ascoltare gli interventi anche da remoto. \nMa i crediti saranno riconosciuti SOLO agli Assistenti Sociali ed ai Mediatori Familiari che parteciperanno in PRESENZA.\n\n \nBROCHURE dell’iniziativa con tutti gli eventi 19/24 Novembre 2023 \nRestorativeJusticeWeekBASILICATA_brochure2023
URL:https://www.mediazioneiris.com/event/restorative-justice-it-basilicata-celebrativo-della-settimana-mondiale-della-giustizia-riparativa-3/
LOCATION:Grande Albergo Potenza\, corso 18 agosto 1860 n.46\, Potenza\, Italia
CATEGORIES:Formazione,Presentazione libro
END:VEVENT
BEGIN:VEVENT
DTSTART;TZID=UTC:20231122T093000
DTEND;TZID=UTC:20231122T133000
DTSTAMP:20260420T154135
CREATED:20231105T121231Z
LAST-MODIFIED:20231117T200754Z
UID:4291-1700645400-1700659800@www.mediazioneiris.com
SUMMARY:RESTORATIVE JUSTICE.IT Basilicata | celebrativo della Settimana Mondiale della Giustizia Riparativa
DESCRIPTION:Evento accreditato Ordine Regionale Assistenti Sociali di Basilicata (ID 53974 – 3 crediti di cui 1 deontologico) \nEvento in corso di riconoscimento presso AIMeF Associazione Italiana Mediatori Familiari \nSarà trasmessa diretta streaming dalla pagina Facebook di Studio IRIS  https://www.facebook.com/StudioIRIS.mediazione  \nper poter ascoltare gli interventi anche da remoto. \nMa i crediti saranno riconosciuti SOLO agli Assistenti Sociali ed ai Mediatori Familiari che parteciperanno in PRESENZA.\n \nBROCHURE dell’iniziativa con tutti gli eventi 19/24 Novembre 2023 \nRestorativeJusticeWeekBASILICATA_brochure2023 \n 
URL:https://www.mediazioneiris.com/event/restorative-justice-it-basilicata-celebrativo-della-settimana-mondiale-della-giustizia-riparativa-6/
LOCATION:Grande Albergo Potenza\, corso 18 agosto 1860 n.46\, Potenza\, Italia
CATEGORIES:Evento culturale,Formazione
END:VEVENT
BEGIN:VEVENT
DTSTART;TZID=UTC:20231121T093000
DTEND;TZID=UTC:20231121T133000
DTSTAMP:20260420T154135
CREATED:20231029T124145Z
LAST-MODIFIED:20231117T184000Z
UID:4244-1700559000-1700573400@www.mediazioneiris.com
SUMMARY:RESTORATIVE JUSTICE.IT Basilicata | celebrativo della Settimana Mondiale della Giustizia Riparativa
DESCRIPTION:21 Novembre 2023 ore 9.30/13.30 presso la Sala Consiliare della Provincia di Matera \nConvegno “LA SFIDA DELLA GIUSTIZIA RIPARATIVA: PAROLE E PROGRAMMI PER LO SVILUPPO DI COMUNITA’ ETICAMENTE RESPONSABILI” \nEvento accreditato Ordine Regionale Assistenti Sociali di Basilicata (ID 53869 – 3 crediti di cui 1 deontologico) \nSarà trasmessa diretta streaming dalla pagina Facebook di Studio IRIS  https://www.facebook.com/StudioIRIS.mediazione  \nper poter ascoltare gli interventi anche da remoto. \nMa i crediti saranno riconosciuti SOLO agli Assistenti Sociali che parteciperanno in PRESENZA.\n \nBROCHURE dell’iniziativa con tutti gli eventi 19/24 Novembre 2023  \nRestorativeJusticeWeekBASILICATA_brochure2023 \n  \n  \n  \n 
URL:https://www.mediazioneiris.com/event/restorative-justice-it-basilicata-celebrativo-della-settimana-mondiale-della-giustizia-riparativa/
LOCATION:Provincia di Matera\, Via Ridola 60\, Matera
CATEGORIES:Evento culturale,Formazione
END:VEVENT
BEGIN:VEVENT
DTSTART;TZID=UTC:20231116T163000
DTEND;TZID=UTC:20231116T190000
DTSTAMP:20260420T154135
CREATED:20231029T111858Z
LAST-MODIFIED:20231029T124842Z
UID:4222-1700152200-1700161200@www.mediazioneiris.com
SUMMARY:LA SFIDA ETICA ED ESTETICA DELLA GIUSTIZIA RIPARATIVA  | #BCM23 #BOOKCITYMILANO
DESCRIPTION:Con Francesca Genzano e Marina Piano\, autrici del libro LA GIUSTIZIA RIPARATIVA PER LO SVILUPPO DI COMUNITA’ ETICAMENTE RESPONSABILI (Pm Edizioni\,2023) \nIntroduce Isabella Mastropasqua \nPer partecipare\, cliccare qui: \nhttps://www.bookcitymilano.it/eventi/2023/la-sfida-etica-ed-estetica-della-giustizia-riparativa \n  \n 
URL:https://www.mediazioneiris.com/event/la-sfida-etica-ed-estetica-della-giustizia-riparativa-bcm23-bookcitymilano/
CATEGORIES:Evento culturale,Presentazione libro
END:VEVENT
BEGIN:VEVENT
DTSTART;TZID=UTC:20230630T110000
DTEND;TZID=UTC:20230630T130000
DTSTAMP:20260420T154135
CREATED:20230623T085252Z
LAST-MODIFIED:20230623T085339Z
UID:4151-1688122800-1688130000@www.mediazioneiris.com
SUMMARY:Presentazione a Taranto del libro di Genzano_Piano | GIUSTIZIA RIPARATIVA
DESCRIPTION:
URL:https://www.mediazioneiris.com/event/presentazione-a-taranto-del-libro-di-genzano_piano-giustizia-riparativa/
LOCATION:Taranto
CATEGORIES:Presentazione libro
END:VEVENT
BEGIN:VEVENT
DTSTART;TZID=UTC:20230523T090000
DTEND;TZID=UTC:20230523T190000
DTSTAMP:20260420T154135
CREATED:20230530T180319Z
LAST-MODIFIED:20230530T180319Z
UID:4135-1684832400-1684868400@www.mediazioneiris.com
SUMMARY:Socialworkday2023 RISPETTARE LA DIVERSITA' Croas Basilicata_Matera
DESCRIPTION:
URL:https://www.mediazioneiris.com/event/socialworkday2023-rispettare-la-diversita-croas-basilicata_matera/
CATEGORIES:Evento culturale
END:VEVENT
END:VCALENDAR