BEGIN:VCALENDAR
VERSION:2.0
PRODID:-//Studio IRIS - ECPv6.6.4.1//NONSGML v1.0//EN
CALSCALE:GREGORIAN
METHOD:PUBLISH
X-ORIGINAL-URL:https://www.mediazioneiris.com
X-WR-CALDESC:Eventi per Studio IRIS
REFRESH-INTERVAL;VALUE=DURATION:PT1H
X-Robots-Tag:noindex
X-PUBLISHED-TTL:PT1H
BEGIN:VTIMEZONE
TZID:UTC
BEGIN:STANDARD
TZOFFSETFROM:+0000
TZOFFSETTO:+0000
TZNAME:UTC
DTSTART:20170101T000000
END:STANDARD
END:VTIMEZONE
BEGIN:VEVENT
DTSTART;TZID=UTC:20251128T090000
DTEND;TZID=UTC:20251130T190000
DTSTAMP:20260420T171033
CREATED:20250920T170657Z
LAST-MODIFIED:20251120T085959Z
UID:5123-1764320400-1764529200@www.mediazioneiris.com
SUMMARY:𝐂𝐨𝐫𝐬𝐨 𝐝𝐢 𝐩𝐞𝐫𝐟𝐞𝐳𝐢𝐨𝐧𝐚𝐦𝐞𝐧𝐭𝐨 𝐢𝐧 𝐀𝐑𝐓 𝐂𝐎𝐔𝐍𝐒𝐄𝐋𝐈𝐍𝐆 𝐔𝐌𝐀𝐍𝐈𝐒𝐓𝐈𝐂𝐎 𝐕𝐈𝐓𝐓𝐈𝐌𝐎𝐋𝐎𝐆𝐈𝐂𝐎
DESCRIPTION:Modulo 7) LA FUNZIONE RIPARATIVA DELL’ARTE \n𝐂𝐨𝐫𝐬𝐨 𝐝𝐢 𝐩𝐞𝐫𝐟𝐞𝐳𝐢𝐨𝐧𝐚𝐦𝐞𝐧𝐭𝐨 𝐢𝐧 𝐀𝐑𝐓 𝐂𝐎𝐔𝐍𝐒𝐄𝐋𝐈𝐍𝐆 𝐔𝐌𝐀𝐍𝐈𝐒𝐓𝐈𝐂𝐎 𝐕𝐈𝐓𝐓𝐈𝐌𝐎𝐋𝐎𝐆𝐈𝐂𝐎\n Modulo 7) LA FUNZIONE RIPARATIVA DELL’ARTE  \nVenerdi 28 Novembre 2025 Dott.ssa Francesca Genzano \nL’arte come riparazione. Simboli e metafore. Il percorso di art counseling umanistico vittimologico \nLa funzione riparativa dell’arte nella Giustizia Riparativa \nSabato 29 Novembre 2025| Dott.ssa Gabriella Costa D’Amore \nL’impatto del processo creativo-trasformativo sulla persona \nMetodo Art Espressivo Simbolico® di Gabriella Costa D’Amore \nDomenica 30 Novembre 2025 | Dott.ssa Letizia Rivolta e Dott.ssa Simona Fornaroli \n“SquarciArte – L’arte tra le crepe” – Laboratorio di Metodo Caviardage e Zentangle Method \n  \n\n 
URL:https://www.mediazioneiris.com/event/%f0%9d%90%82%f0%9d%90%a8%f0%9d%90%ab%f0%9d%90%ac%f0%9d%90%a8-%f0%9d%90%9d%f0%9d%90%a2-%f0%9d%90%a9%f0%9d%90%9e%f0%9d%90%ab%f0%9d%90%9f%f0%9d%90%9e%f0%9d%90%b3%f0%9d%90%a2%f0%9d%90%a8%f0%9d%90%a7-10/
CATEGORIES:Formazione
END:VEVENT
BEGIN:VEVENT
DTSTART;TZID=UTC:20250704T090000
DTEND;TZID=UTC:20250706T190000
DTSTAMP:20260420T171033
CREATED:20250521T140938Z
LAST-MODIFIED:20250521T141109Z
UID:5048-1751619600-1751828400@www.mediazioneiris.com
SUMMARY:Corso in ART COUNSELING UMANISTICO VITTIMOLOGICO
DESCRIPTION:Corso in ART COUNSELING UMANISTICO VITTIMOLOGICO
URL:https://www.mediazioneiris.com/event/corso-in-art-counseling-umanistico-vittimologico-6/
LOCATION:Studio IRIS | Giardino dell’Arte della Mediazione\, viale dell'Ateneo Lucano 3\, Potenza\, 85100\, Italia
CATEGORIES:Formazione
END:VEVENT
BEGIN:VEVENT
DTSTART;TZID=UTC:20250614T093000
DTEND;TZID=UTC:20250615T190000
DTSTAMP:20260420T171033
CREATED:20250518T190951Z
LAST-MODIFIED:20250518T190951Z
UID:5043-1749893400-1750014000@www.mediazioneiris.com
SUMMARY:Corso in ART COUNSELING UMANISTICO VITTIMOLOGICO
DESCRIPTION:Modulo 7)  LA FUNZIONE RIPARATIVA DELL’ARTE del Corso di perfezionamento in ART COUNSELING UMANISTICO VITTIMOLOGICO \ntot. 16 ore – svolgimento da remoto
URL:https://www.mediazioneiris.com/event/corso-in-art-counseling-umanistico-vittimologico-5/
CATEGORIES:Formazione
END:VEVENT
BEGIN:VEVENT
DTSTART;TZID=UTC:20231123T150000
DTEND;TZID=UTC:20231123T200000
DTSTAMP:20260420T171033
CREATED:20231101T223423Z
LAST-MODIFIED:20231117T201409Z
UID:4273-1700751600-1700769600@www.mediazioneiris.com
SUMMARY:RESTORATIVE JUSTICE.IT Basilicata | celebrativo della Settimana Mondiale della Giustizia Riparativa
DESCRIPTION:𝟐𝟑 𝐍𝐨𝐯𝐞𝐦𝐛𝐫𝐞 𝟐𝟎𝟐𝟑 𝐨𝐫𝐞 𝟏𝟓.𝟎𝟎 a Potenza presso la Sala Minerva del Grande Albergo di Potenza  \n𝐒𝐢𝐦𝐩𝐨𝐬𝐢𝐨 “𝐕𝐄𝐑𝐈𝐓𝐀’ 𝐄 𝐌𝐄𝐌𝐎𝐑𝐈𝐀 𝐍𝐄𝐋𝐋𝐎 𝐒𝐏𝐀𝐙𝐈𝐎 𝐃𝐄𝐋𝐋𝐀 𝐆𝐈𝐔𝐒𝐓𝐈𝐙𝐈𝐀 𝐑𝐈𝐏𝐀𝐑𝐀𝐓𝐈𝐕𝐀: 𝐕𝐄𝐑𝐒𝐎 𝐋𝐀 𝐏𝐎-𝐄𝐓𝐈𝐂𝐀 𝐃𝐄𝐋𝐋𝐀 𝐑𝐄𝐒𝐏𝐎𝐍𝐒𝐀𝐁𝐈𝐋𝐈𝐓𝐀’” \nevento accreditato ORDINE REGIONALE ASSSISTENTI SOCIALI DI BASILICATA | ID 53921 \nriconosciuti n. 4 crediti di cui 1 deontologico per Assistenti Sociali  (solo partecipazione IN PRESENZA) \n \nBROCHURE dell’iniziativa con tutti gli eventi 19/24 Novembre 2023 \nRestorativeJusticeWeekBASILICATA_brochure2023 \n  \n  \n 
URL:https://www.mediazioneiris.com/event/restorative-justice-it-basilicata-celebrativo-della-settimana-mondiale-della-giustizia-riparativa-5/
LOCATION:Grande Albergo Potenza\, corso 18 agosto 1860 n.46\, Potenza\, Italia
CATEGORIES:Evento culturale,Formazione
END:VEVENT
BEGIN:VEVENT
DTSTART;TZID=UTC:20231123T093000
DTEND;TZID=UTC:20231123T130000
DTSTAMP:20260420T171033
CREATED:20231030T155422Z
LAST-MODIFIED:20231109T170100Z
UID:4251-1700731800-1700744400@www.mediazioneiris.com
SUMMARY:RESTORATIVE JUSTICE.IT Basilicata | celebrativo della Settimana Mondiale della Giustizia Riparativa
DESCRIPTION:PREVENZIONE\, PROTEZIONE E RIPARAZIONE NEI CASI DI VIOLENZA DOMESTICA\, INTRAFAMILIARE E DI GENERE \ningresso libero con partecipazione gratuita\, senza necessità di iscrizione \nZOOM Meeting: https://us02web.zoom.us/j/89563478474?pwd=eS8vR0tCczBQVUVZaURHS0hxNkhUZz09\nID riunione: 895 6347 8474 | Codice d’accesso: 304718 \n  \nEvento accreditato presso Ordine Regionale degli Assistenti Sociali di Basilicata: riconosciuti n. 2 crediti formativi (ID 53922) \n \n  \n 
URL:https://www.mediazioneiris.com/event/restorative-justice-it-basilicata-celebrativo-della-settimana-mondiale-della-giustizia-riparativa-2/
CATEGORIES:Formazione,Presentazione libro
END:VEVENT
BEGIN:VEVENT
DTSTART;TZID=UTC:20231122T093000
DTEND;TZID=UTC:20231122T133000
DTSTAMP:20260420T171033
CREATED:20231105T121231Z
LAST-MODIFIED:20231117T200754Z
UID:4291-1700645400-1700659800@www.mediazioneiris.com
SUMMARY:RESTORATIVE JUSTICE.IT Basilicata | celebrativo della Settimana Mondiale della Giustizia Riparativa
DESCRIPTION:Evento accreditato Ordine Regionale Assistenti Sociali di Basilicata (ID 53974 – 3 crediti di cui 1 deontologico) \nEvento in corso di riconoscimento presso AIMeF Associazione Italiana Mediatori Familiari \nSarà trasmessa diretta streaming dalla pagina Facebook di Studio IRIS  https://www.facebook.com/StudioIRIS.mediazione  \nper poter ascoltare gli interventi anche da remoto. \nMa i crediti saranno riconosciuti SOLO agli Assistenti Sociali ed ai Mediatori Familiari che parteciperanno in PRESENZA.\n \nBROCHURE dell’iniziativa con tutti gli eventi 19/24 Novembre 2023 \nRestorativeJusticeWeekBASILICATA_brochure2023 \n 
URL:https://www.mediazioneiris.com/event/restorative-justice-it-basilicata-celebrativo-della-settimana-mondiale-della-giustizia-riparativa-6/
LOCATION:Grande Albergo Potenza\, corso 18 agosto 1860 n.46\, Potenza\, Italia
CATEGORIES:Evento culturale,Formazione
END:VEVENT
BEGIN:VEVENT
DTSTART;TZID=UTC:20230617T090000
DTEND;TZID=UTC:20230618T170000
DTSTAMP:20260420T171033
CREATED:20230404T193710Z
LAST-MODIFIED:20230405T083903Z
UID:4107-1686992400-1687107600@www.mediazioneiris.com
SUMMARY:Corso di perfezionamento e aggiornamento STRUMENTI E PROGRAMMI DI GIUSTIZIA RIPARATIVA
DESCRIPTION:
URL:https://www.mediazioneiris.com/event/corso-di-perfezionamento-e-aggiornamento-strumenti-e-programmi-di-giustizia-riparativa-2/
LOCATION:Studio IRIS | Giardino dell’Arte della Mediazione\, viale dell'Ateneo Lucano 3\, Potenza\, 85100\, Italia
CATEGORIES:Formazione
END:VEVENT
BEGIN:VEVENT
DTSTART;TZID=UTC:20221206T150000
DTEND;TZID=UTC:20221206T180000
DTSTAMP:20260420T171033
CREATED:20221119T192207Z
LAST-MODIFIED:20221206T143753Z
UID:4059-1670338800-1670349600@www.mediazioneiris.com
SUMMARY:STRUMENTI E PROGRAMMI DI GIUSTIZIA RIPARATIVA | UEPE Matera
DESCRIPTION:6° Incontro nell’ambito del Percorso di informazione e sensibilizzazione \nSTRUMENTI E PROGRAMMI DI GIUSTIZIA RIPARATIVA\n\nmartedi 6 Dicembre 2022 ore 15.00/18.00  \nOFFESA\,DANNO E RIPAZIONE NELLO SPAZIO DELLA GIUSTIZIA RIPARATIVA \nDOCENTI: AVV. OTTAVIA MURRO – DOTT.SSA FRANCESCA GENZANO
URL:https://www.mediazioneiris.com/event/strumenti-e-programmi-di-giustizia-riparativa-uepe-matera-3/
LOCATION:Matera
CATEGORIES:Formazione
END:VEVENT
BEGIN:VEVENT
DTSTART;TZID=UTC:20221110T150000
DTEND;TZID=UTC:20221110T170000
DTSTAMP:20260420T171033
CREATED:20220801T143937Z
LAST-MODIFIED:20221109T173344Z
UID:3935-1668092400-1668099600@www.mediazioneiris.com
SUMMARY:GIUSTIZIA RIPARATIVA E TUTELA DELLE VITTIME DI REATI | UEPE Benevento
DESCRIPTION:
URL:https://www.mediazioneiris.com/event/giustizia-riparativa-e-tutela-delle-vittime-di-reati-uepe-benevento-3/
CATEGORIES:Formazione
END:VEVENT
BEGIN:VEVENT
DTSTART;TZID=UTC:20221018T150000
DTEND;TZID=UTC:20221018T170000
DTSTAMP:20260420T171033
CREATED:20220811T145942Z
LAST-MODIFIED:20220911T193220Z
UID:3991-1666105200-1666112400@www.mediazioneiris.com
SUMMARY:STRUMENTI E PROGRAMMI DI GIUSTIZIA RIPARATIVA | UEPE Pescara
DESCRIPTION:
URL:https://www.mediazioneiris.com/event/strumenti-e-programmi-di-giustizia-riparativa-uepe-pescara-4/
LOCATION:Studio IRIS – sede Pescara\, Via Ragazzi del '99\, Pescara
CATEGORIES:Formazione
END:VEVENT
BEGIN:VEVENT
DTSTART;TZID=UTC:20221015T090000
DTEND;TZID=UTC:20221016T190000
DTSTAMP:20260420T171033
CREATED:20220806T162822Z
LAST-MODIFIED:20220806T162822Z
UID:3972-1665824400-1665946800@www.mediazioneiris.com
SUMMARY:MASTER IN MEDIAZIONE PENALE E GIUSTIZIA RIPARATIVA | ed. 2022
DESCRIPTION:MASTER IN MEDIAZIONE PENALE E GIUSTIZIA RIPARATIVA | ed. 2022 \nDocente: Dott.ssa Francesca Genzano
URL:https://www.mediazioneiris.com/event/master-in-mediazione-penale-e-giustizia-riparativa-ed-2022-3/
CATEGORIES:Formazione
END:VEVENT
BEGIN:VEVENT
DTSTART;TZID=UTC:20221013T150000
DTEND;TZID=UTC:20221013T170000
DTSTAMP:20260420T171033
CREATED:20220811T145735Z
LAST-MODIFIED:20220911T193116Z
UID:3988-1665673200-1665680400@www.mediazioneiris.com
SUMMARY:STRUMENTI E PROGRAMMI DI GIUSTIZIA RIPARATIVA | UEPE Pescara
DESCRIPTION:
URL:https://www.mediazioneiris.com/event/strumenti-e-programmi-di-giustizia-riparativa-uepe-pescara-3/
LOCATION:Studio IRIS – sede Pescara\, Via Ragazzi del '99\, Pescara
CATEGORIES:Formazione
END:VEVENT
BEGIN:VEVENT
DTSTART;TZID=UTC:20220923T090000
DTEND;TZID=UTC:20220923T140000
DTSTAMP:20260420T171033
CREATED:20220802T154618Z
LAST-MODIFIED:20220802T154757Z
UID:3953-1663923600-1663941600@www.mediazioneiris.com
SUMMARY:LE NUOVE FORME DI DEVIANZA E LA GIUSTIZIA RIPARATIVA | Arzachena
DESCRIPTION:
URL:https://www.mediazioneiris.com/event/le-nuove-forme-di-devianza-e-la-giustizia-riparativa/
CATEGORIES:Formazione
END:VEVENT
BEGIN:VEVENT
DTSTART;TZID=UTC:20220921T093000
DTEND;TZID=UTC:20220921T173000
DTSTAMP:20260420T171033
CREATED:20220802T154252Z
LAST-MODIFIED:20220802T154857Z
UID:3948-1663752600-1663781400@www.mediazioneiris.com
SUMMARY:LE NUOVE FORME DI DEVIANZA E LA GIUSTIZIA RIPARATIVA | Arzachena
DESCRIPTION:
URL:https://www.mediazioneiris.com/event/la-nuove-forme-di-devianza-e-la-giustizia-riparativa-3/
CATEGORIES:Formazione
END:VEVENT
BEGIN:VEVENT
DTSTART;TZID=UTC:20210715T100000
DTEND;TZID=UTC:20210715T130000
DTSTAMP:20260420T171033
CREATED:20210712T145118Z
LAST-MODIFIED:20210712T151757Z
UID:3665-1626343200-1626354000@www.mediazioneiris.com
SUMMARY:LA MEDIAZIONE DEI CONFLITTI IN AMBITO FAMILIARE NELLO SPAZIO DELLA GIUSTIZIA RIPARATIVA
DESCRIPTION:Incontro di aggiornamento per Mediatori Familiari e Penali \nLA MEDIAZIONE DEI CONFLITTI IN AMBITO FAMILIARE NELLO SPAZIO DELLA GIUSTIZIA RIPARATIVA  \nIncontro di formazione sulla mediazione dei conflitti in ambito familiare e sulle prospettive di sviluppo di pratiche professionali nello spazio della Giustizia Riparativa. Atteso l’aumento esponenziale di casi di violenza intrafamiliare che vengono segnalati dall’Autorità competente o che richiedono un intervento di mediazione\, emerge sempre più significativo\, per il Mediatore Familiare che è chiamato ad effettuare una specifica valutazione di fattibilità\, conoscere il paradigma della Giustizia Riparativa e\, nell’ambito di tale spazio\, esplorare e ri-conoscerere i confini professionali tra la Mediazione Familiare e la Mediazione Penale (victim offender mediation). \nAlcuni specifici modelli operativi di mediazione (modelli umanistico di J. Morineau\, modello inglese L. Parkinson\, modello austriaco di C. Pelikan) consentono di poter proporre e realizzare un percorso di Mediazione Familiare anche nei casi di violenza intrafamiliare. In molti paesi europei infatti la Mediazione Familiare\, cosi configurandosi come strumento di gestione dei conflitti in più ambiti familiari ed anche in presenza di profili penali e processualpenalistici\, e condotta da Mediatori Familiari con specifiche competenze\, rientra pienamente tra le pratiche di Giustizia Riparativa. In Italia la questione è ancora occasione di confronto e riflessione\, ma offre già una realtà professionale ricca di pratiche anche innovative capaci di rispondere concretamente ai bisogni ed alle attese di giustizia e verit \n \nà delle persone che\, aldilà dell’essere vittime e autori di reato\, sono uomini e donne che decidono responsabilmente\, e con coraggio\, di incontrarsi per chiarire e trasformare il conflitto e promuovere la riparazione dell’offesa nella sua dimensione globale. \nFormatore: Dott.ssa Francesca Genzano\, Mediatore Familiare A.I.Me.F.\, Mediatore Penale esperto in programmi di Giustizia Riparativa\, Mediatore Civile\, Formatore\, Supervisore Professionale A.I.Me.F.\, Assistente Sociale\, Responsabile del Centro di Mediazione Familiare e del Centro di Mediazione Penale e Giustizia Riparativa di Studio IRIS \nPARTECIPAZIONE GRATUITA – iscrizione obbligatoria per ricevere link di accesso alla piattaforma ed ai fini del rilascio dell’attestato di partecipazione – Per info e iscrizioni : info@mediazioneiris.com
URL:https://www.mediazioneiris.com/event/la-mediazione-dei-conflitti-in-ambito-familiare-nello-spazio-della-giustizia-riparativa/
CATEGORIES:Formazione
END:VEVENT
BEGIN:VEVENT
DTSTART;TZID=UTC:20210619T093000
DTEND;TZID=UTC:20210620T190000
DTSTAMP:20260420T171033
CREATED:20210712T154626Z
LAST-MODIFIED:20210712T154627Z
UID:3677-1624095000-1624215600@www.mediazioneiris.com
SUMMARY:MASTER IN MEDIAZIONE PENALE E GIUSTIZIA RIPARATIVA (ed. speciale 2020/2021)
DESCRIPTION:19 e 20 GIUGNO 2021 | Attività formative nell’ambito del MASTER IN MEDIAZIONE PENALE E GIUSTIZIA RIPARATIVA (ed. speciale 2020/2021): \nModulo 6) Dott.ssa GENZANO FRANCESCA \nModulo 7) Dott.ssa MURRU SUSANNA
URL:https://www.mediazioneiris.com/event/master-in-mediazione-penale-e-giustizia-riparativa-ed-speciale-2020-2021-2/
CATEGORIES:Formazione
END:VEVENT
BEGIN:VEVENT
DTSTART;TZID=UTC:20210615T093000
DTEND;TZID=UTC:20210615T133000
DTSTAMP:20260420T171033
CREATED:20211113T212246Z
LAST-MODIFIED:20211113T212246Z
UID:3753-1623749400-1623763800@www.mediazioneiris.com
SUMMARY:Percorso LA TUTELA DELLE VITTIME DEI REATI NELLO SPAZIO DELLA GIUSTIZIA RIPARATIVA
DESCRIPTION:
URL:https://www.mediazioneiris.com/event/percorso-la-tutela-delle-vittime-dei-reati-nello-spazio-della-giustizia-riparativa-3/
CATEGORIES:Formazione
END:VEVENT
BEGIN:VEVENT
DTSTART;TZID=UTC:20210528T093000
DTEND;TZID=UTC:20210528T133000
DTSTAMP:20260420T171033
CREATED:20211113T212559Z
LAST-MODIFIED:20211113T212559Z
UID:3757-1622194200-1622208600@www.mediazioneiris.com
SUMMARY:Percorso LA TUTELA DELLE VITTIME DEI REATI NELLO SPAZIO DELLA GIUSTIZIA RIPARATIVA
DESCRIPTION:
URL:https://www.mediazioneiris.com/event/percorso-la-tutela-delle-vittime-dei-reati-nello-spazio-della-giustizia-riparativa-5/
CATEGORIES:Formazione
END:VEVENT
BEGIN:VEVENT
DTSTART;TZID=UTC:20210507T093000
DTEND;TZID=UTC:20210507T133000
DTSTAMP:20260420T171033
CREATED:20210507T140557Z
LAST-MODIFIED:20210507T140557Z
UID:3651-1620379800-1620394200@www.mediazioneiris.com
SUMMARY:“LA TUTELA DELLE VITTIME DEI REATI NELLO SPAZIO DELLA GIUSTIZIA RIPARATIVA”
DESCRIPTION:2° INCONTRO del Percorso di informazione e sensibilizzazione “LA TUTELA DELLE VITTIME DEI REATI NELLO SPAZIO DELLA GIUSTIZIA RIPARATIVA” organizzato da Studio IRIS in collaborazione con l’UFFICIO DI SERVIZIO SOCIALE PER I MINORENNI DI L’AQUILA-MINISTERO DELLA GIUSTIZIA nell’ambito del progetto SPAZIO SERVIZI PER LE VITTIME\nCoordina l’incontro la Dott.ssa Francesca Genzano (Responsabile Centro di Mediazione e Giustizia Riparativa Studio IRIS)\nIntervengono:\n– Dott. Marco Bouchard (Magistrato\, già Presidente della seconda sezione penale presso il Tribunale di Firenze\,\nPresidente onorario di Rete Dafne Italia Rete Nazionale dei Servizi per l’Assistenza alle Vittime di Reato)\n– Avv. Francesca Di Muzio (Penalista ed esperta in Criminologia e Vittimologia\, Docente di vittimologia e giustizia riparativa presso l’Università D’Annunzio Chieti Pescara)\n– Prof.ssa Maria Rosa Mondini (Pedagogista\, Mediatore Penale e Familiare\, già Giudice onorario presso il Tribunale per i Minorenni di Bologna\, Fondatore e Past President del C.I.M.F.M. Centro Italiano di Mediazione e Formazione alla Mediazione di Bologna)
URL:https://www.mediazioneiris.com/event/la-tutela-delle-vittime-dei-reati-nello-spazio-della-giustizia-riparativa-2/
LOCATION:Studio IRIS | Giardino dell’Arte della Mediazione\, viale dell'Ateneo Lucano 3\, Potenza\, 85100\, Italia
CATEGORIES:Formazione
END:VEVENT
BEGIN:VEVENT
DTSTART;TZID=UTC:20201214T150000
DTEND;TZID=UTC:20201214T170000
DTSTAMP:20260420T171033
CREATED:20201210T222338Z
LAST-MODIFIED:20201210T222338Z
UID:3631-1607958000-1607965200@www.mediazioneiris.com
SUMMARY:La Mediazione Penale nell'esperienza pilota dell'UEPE di Salerno
DESCRIPTION:
URL:https://www.mediazioneiris.com/event/la-mediazione-penale-nellesperienza-pilota-delluepe-di-salerno/
CATEGORIES:Formazione
END:VEVENT
BEGIN:VEVENT
DTSTART;TZID=UTC:20200911T093000
DTEND;TZID=UTC:20200913T183000
DTSTAMP:20260420T171033
CREATED:20200812T184551Z
LAST-MODIFIED:20200812T200017Z
UID:3429-1599816600-1600021800@www.mediazioneiris.com
SUMMARY:MASTER MEDIAZIONE PENALE E GIUSTIZIA RIPARATIVA – 1° ed. CAGLIARI
DESCRIPTION:  \n\nMASTER MEDIAZIONE PENALE E GIUSTIZIA RIPARATIVA – 1° ed. CAGLIARI\n\n\n\n11-12-13 Settembre 2020 | ore 9.30-13.30 / 14.30-18.30\nFormatore: Dott.ssa FRANCESCA GENZANO
URL:https://www.mediazioneiris.com/event/master-mediazione-penale-e-giustizia-riparativa-1-ed-cagliari-6/
LOCATION:Studio IRIS – sede Cagliari\, Via San Lucifero n. 65\, CAGLIARI
CATEGORIES:Formazione
END:VEVENT
BEGIN:VEVENT
DTSTART;TZID=UTC:20200224T160000
DTEND;TZID=UTC:20200224T190000
DTSTAMP:20260420T171033
CREATED:20200416T140807Z
LAST-MODIFIED:20200416T142133Z
UID:3367-1582560000-1582570800@www.mediazioneiris.com
SUMMARY:RIPARARE CON LA MEDIAZIONE - Il progetto RI.MEDIA. per l'innesto di pratiche riparative
DESCRIPTION:
URL:https://www.mediazioneiris.com/event/riparare-con-la-mediazione-il-progetto-ri-media-per-linnesto-di-pratiche-riparative/
LOCATION:Provincia di Salerno\, Via Roma 104\, Salerno
CATEGORIES:Evento culturale,Formazione
END:VEVENT
BEGIN:VEVENT
DTSTART;TZID=UTC:20200208T100000
DTEND;TZID=UTC:20200208T120000
DTSTAMP:20260420T171033
CREATED:20200127T214333Z
LAST-MODIFIED:20200127T214333Z
UID:3292-1581156000-1581163200@www.mediazioneiris.com
SUMMARY:Presentazione "MASTER in MEDIAZIONE PENALE E GIUSTIZIA RIPARATIVA" Potenza
DESCRIPTION:Presentazione “MASTER IN MEDIAZIONE PENALE E GIUSTIZIA RIPARATIVA” – nuova edizione – POTENZA \npercorso formativo annuale finalizzato a formare Mediatori Penali (ambito minori e adulti) esperti in programmi di Giustizia Riparativa\n???? master accreditato da CNOAS – Consiglio Nazionale Ordine Assistenti Sociali con riconoscimento di 45 crediti per assistenti sociali (30 crediti formativi e 15 deontologici)
URL:https://www.mediazioneiris.com/event/presentazione-master-in-mediazione-penale-e-giustizia-riparativa-potenza/
LOCATION:Studio IRIS | Giardino dell’Arte della Mediazione\, viale dell'Ateneo Lucano 3\, Potenza\, 85100\, Italia
CATEGORIES:Conferenza stampa
END:VEVENT
BEGIN:VEVENT
DTSTART;TZID=UTC:20191014T150000
DTEND;TZID=UTC:20191014T173000
DTSTAMP:20260420T171033
CREATED:20190929T115527Z
LAST-MODIFIED:20190929T115529Z
UID:3083-1571065200-1571074200@www.mediazioneiris.com
SUMMARY:Convegno LA SFIDA DELLA GIUSTIZIA RIPARATIVA IN CAMPANIA
DESCRIPTION: 
URL:https://www.mediazioneiris.com/event/convegno-la-sfida-della-giustizia-riparativa-in-campania/
LOCATION:Casa Circondariale di Salerno
END:VEVENT
BEGIN:VEVENT
DTSTART;TZID=UTC:20190417T110000
DTEND;TZID=UTC:20190417T140000
DTSTAMP:20260420T171033
CREATED:20190330T175109Z
LAST-MODIFIED:20190330T175109Z
UID:2996-1555498800-1555509600@www.mediazioneiris.com
SUMMARY:Corso LA MEDIAZIONE NELL'ESECUZIONE PENALE DEGLI ADULTI - UEPE Salerno
DESCRIPTION:
URL:https://www.mediazioneiris.com/event/corso-la-mediazione-nellesecuzione-penale-degli-adulti-uepe-salerno-3/
LOCATION:Ufficio di Esecuzione Penale Esterna di Salerno\, Via Irno 11\, Salerno
CATEGORIES:Formazione
END:VEVENT
BEGIN:VEVENT
DTSTART;TZID=UTC:20190416T120000
DTEND;TZID=UTC:20190416T150000
DTSTAMP:20260420T171033
CREATED:20190330T190544Z
LAST-MODIFIED:20190330T190545Z
UID:3003-1555416000-1555426800@www.mediazioneiris.com
SUMMARY:Corso LA MEDIAZIONE NELL'ESECUZIONE PENALE DEGLI ADULTI - UEPE Salerno
DESCRIPTION:
URL:https://www.mediazioneiris.com/event/corso-la-mediazione-nellesecuzione-penale-degli-adulti-uepe-salerno-6/
LOCATION:Ufficio di Esecuzione Penale Esterna di Salerno\, Via Irno 11\, Salerno
CATEGORIES:Formazione
END:VEVENT
BEGIN:VEVENT
DTSTART;TZID=UTC:20190415T110000
DTEND;TZID=UTC:20190415T130000
DTSTAMP:20260420T171033
CREATED:20190330T192117Z
LAST-MODIFIED:20190330T192118Z
UID:3005-1555326000-1555333200@www.mediazioneiris.com
SUMMARY:Il percorso di mediazione penale. Metodi e pratiche.
DESCRIPTION:AIGA PESCARA |Caffè tra colleghi \, 15 APRILE 2019 ore 11.00/13.00 – PESCARA \nAvv. Giulio De Carolis | Presidente Associazione Italiana Giovani Avvocati – PESCARA \nIl percorso di mediazione penale. Metodi e pratiche | Dott.ssa Francesca Genzano\, Mediatore Penale e Responsabile Centro di Mediazione Penale e Giustizia Riparativa – Basilicata (Studi IRIS)\n \n 
URL:https://www.mediazioneiris.com/event/il-percorso-di-mediazione-penale-metodi-e-pratiche/
CATEGORIES:Evento culturale,Formazione
END:VEVENT
BEGIN:VEVENT
DTSTART;TZID=UTC:20190409T120000
DTEND;TZID=UTC:20190409T150000
DTSTAMP:20260420T171033
CREATED:20190330T185858Z
LAST-MODIFIED:20190330T185859Z
UID:3001-1554811200-1554822000@www.mediazioneiris.com
SUMMARY:Corso LA MEDIAZIONE NELL'ESECUZIONE PENALE DEGLI ADULTI - UEPE Salerno
DESCRIPTION:
URL:https://www.mediazioneiris.com/event/corso-la-mediazione-nellesecuzione-penale-degli-adulti-uepe-salerno-5/
LOCATION:Ufficio di Esecuzione Penale Esterna di Salerno\, Via Irno 11\, Salerno
CATEGORIES:Formazione
END:VEVENT
BEGIN:VEVENT
DTSTART;TZID=UTC:20170519T150000
DTEND;TZID=UTC:20170521T200000
DTSTAMP:20260420T171033
CREATED:20170314T202903Z
LAST-MODIFIED:20170319T162659Z
UID:2521-1495206000-1495396800@www.mediazioneiris.com
SUMMARY:Corso in ART COUNSELING UMANISTICO VITTIMOLOGICO
DESCRIPTION:“Corso di perfezionamento in ART COUNSELING UMANISTICO VITTIMOLOGICO” 2° ed. POTENZA
URL:https://www.mediazioneiris.com/event/corso-art-counseling-umanistico-vittimologico-4/
LOCATION:Studio IRIS | Giardino dell’Arte della Mediazione\, viale dell'Ateneo Lucano 3\, Potenza\, 85100\, Italia
CATEGORIES:Formazione
END:VEVENT
BEGIN:VEVENT
DTSTART;TZID=UTC:20170311T090000
DTEND;TZID=UTC:20170312T200000
DTSTAMP:20260420T171033
CREATED:20170126T181341Z
LAST-MODIFIED:20170203T152941Z
UID:2457-1489222800-1489348800@www.mediazioneiris.com
SUMMARY:Corso ART COUNSELING UMANISTICO VITTIMOLOGICO
DESCRIPTION:11 e 12 Marzo 2017 \nVITTIMOLOGIA NELLO SPAZIO DELLA GIUSTIZIA RIPARATIVA\nLa mediazione con vittima aspecifica o gruppi di vittime aspecifiche. Servizi di sostegno alle vittime.\nIl modello operativo di Studio IRIS e Art Counseling Umanistico Vittimologico \nDocenti: Dott.ssa Isabella Mastropasqua – Dott.ssa Francesca Genzano \nSTRUMENTI E TECNICHE DI COUNSELING CON VITTIME DI REATI \nDocenti: Dott.ssa Francesca Genzano – Dott.ssa Antonia Roberti \n \n 
URL:https://www.mediazioneiris.com/event/corso-art-counseling-umanistico-vittimologico-2/
LOCATION:Studio IRIS c/o Domus Australia\, Via Cernaia 14/b\, Roma\, 00185\, Italia
CATEGORIES:Formazione
END:VEVENT
END:VCALENDAR