BEGIN:VCALENDAR
VERSION:2.0
PRODID:-//Studio IRIS - ECPv6.6.4.1//NONSGML v1.0//EN
CALSCALE:GREGORIAN
METHOD:PUBLISH
X-WR-CALNAME:Studio IRIS
X-ORIGINAL-URL:https://www.mediazioneiris.com
X-WR-CALDESC:Eventi per Studio IRIS
REFRESH-INTERVAL;VALUE=DURATION:PT1H
X-Robots-Tag:noindex
X-PUBLISHED-TTL:PT1H
BEGIN:VTIMEZONE
TZID:UTC
BEGIN:STANDARD
TZOFFSETFROM:+0000
TZOFFSETTO:+0000
TZNAME:UTC
DTSTART:20260101T000000
END:STANDARD
END:VTIMEZONE
BEGIN:VEVENT
DTSTART;TZID=UTC:20260328T093000
DTEND;TZID=UTC:20260328T133000
DTSTAMP:20260420T170817
CREATED:20260207T163047Z
LAST-MODIFIED:20260207T163047Z
UID:5249-1774690200-1774704600@www.mediazioneiris.com
SUMMARY:workshop PRATICHE DI SCRITTURA CREATVA PER LO SVILUPPO DELLE COMPETENZE TRASVERSALI DEL MEDIATORE
DESCRIPTION:n. 2 CREDITI per MEDIATORI FAMILIARI AIMeF \nper iscrizioni: compilare il google form: \nhttps://forms.gle/yaa2RN2ofHD4g6sx
URL:https://www.mediazioneiris.com/event/workshop-pratiche-di-scrittura-creatva-per-lo-sviluppo-delle-competenze-trasversali-del-mediatore-2/
CATEGORIES:Formazione
END:VEVENT
END:VCALENDAR