BEGIN:VCALENDAR
VERSION:2.0
PRODID:-//Studio IRIS - ECPv6.6.4.1//NONSGML v1.0//EN
CALSCALE:GREGORIAN
METHOD:PUBLISH
X-WR-CALNAME:Studio IRIS
X-ORIGINAL-URL:https://www.mediazioneiris.com
X-WR-CALDESC:Eventi per Studio IRIS
REFRESH-INTERVAL;VALUE=DURATION:PT1H
X-Robots-Tag:noindex
X-PUBLISHED-TTL:PT1H
BEGIN:VTIMEZONE
TZID:UTC
BEGIN:STANDARD
TZOFFSETFROM:+0000
TZOFFSETTO:+0000
TZNAME:UTC
DTSTART:20260101T000000
END:STANDARD
END:VTIMEZONE
BEGIN:VEVENT
DTSTART;TZID=UTC:20260128T113000
DTEND;TZID=UTC:20260128T133000
DTSTAMP:20260420T172044
CREATED:20260115T101808Z
LAST-MODIFIED:20260122T141617Z
UID:5229-1769599800-1769607000@www.mediazioneiris.com
SUMMARY:Conferenza stampa presentazione CENTRO GIUSTIZIA RIPARATIVA DI TARANTO
DESCRIPTION:
URL:https://www.mediazioneiris.com/event/conferenza-stampa-presentazione-centro-giustizia-riparativa-di-taranto/
LOCATION:Comune di Taranto\, Vico Municipio 1\, Taranto\, Italy
CATEGORIES:Conferenza stampa
END:VEVENT
END:VCALENDAR