BEGIN:VCALENDAR
VERSION:2.0
PRODID:-//Studio IRIS - ECPv6.6.4.1//NONSGML v1.0//EN
CALSCALE:GREGORIAN
METHOD:PUBLISH
X-WR-CALNAME:Studio IRIS
X-ORIGINAL-URL:https://www.mediazioneiris.com
X-WR-CALDESC:Eventi per Studio IRIS
REFRESH-INTERVAL;VALUE=DURATION:PT1H
X-Robots-Tag:noindex
X-PUBLISHED-TTL:PT1H
BEGIN:VTIMEZONE
TZID:UTC
BEGIN:STANDARD
TZOFFSETFROM:+0000
TZOFFSETTO:+0000
TZNAME:UTC
DTSTART:20140101T000000
END:STANDARD
END:VTIMEZONE
BEGIN:VEVENT
DTSTART;TZID=UTC:20221119T090000
DTEND;TZID=UTC:20221120T190000
DTSTAMP:20260420T170639
CREATED:20220806T170909Z
LAST-MODIFIED:20221119T185515Z
UID:3976-1668848400-1668970800@www.mediazioneiris.com
SUMMARY:MASTER IN MEDIAZIONE PENALE E GIUSTIZIA RIPARATIVA | ed. 2022
DESCRIPTION:MASTER IN MEDIAZIONE PENALE E GIUSTIZIA RIPARATIVA | ed. 2022/2023 \nModulo 8) SERVIZI PER LE VITTIME DI REATI  \nDott. Marco Bouchard – Dott.ssa Francesca Genzano – Dott.ssa Maria Dorinda Silvestri
URL:https://www.mediazioneiris.com/event/master-in-mediazione-penale-e-giustizia-riparativa-ed-2022-5/
CATEGORIES:Formazione
END:VEVENT
BEGIN:VEVENT
DTSTART;TZID=UTC:20221015T090000
DTEND;TZID=UTC:20221016T190000
DTSTAMP:20260420T170639
CREATED:20220806T162822Z
LAST-MODIFIED:20220806T162822Z
UID:3972-1665824400-1665946800@www.mediazioneiris.com
SUMMARY:MASTER IN MEDIAZIONE PENALE E GIUSTIZIA RIPARATIVA | ed. 2022
DESCRIPTION:MASTER IN MEDIAZIONE PENALE E GIUSTIZIA RIPARATIVA | ed. 2022 \nDocente: Dott.ssa Francesca Genzano
URL:https://www.mediazioneiris.com/event/master-in-mediazione-penale-e-giustizia-riparativa-ed-2022-3/
CATEGORIES:Formazione
END:VEVENT
BEGIN:VEVENT
DTSTART;TZID=UTC:20221001T090000
DTEND;TZID=UTC:20221002T190000
DTSTAMP:20260420T170639
CREATED:20220806T162640Z
LAST-MODIFIED:20220806T162640Z
UID:3970-1664614800-1664737200@www.mediazioneiris.com
SUMMARY:MASTER IN MEDIAZIONE PENALE E GIUSTIZIA RIPARATIVA | ed. 2022
DESCRIPTION:MASTER IN MEDIAZIONE PENALE E GIUSTIZIA RIPARATIVA | ed. 2022\nDocenti: Dott.ssa Francesca Genzano – Prof.ssa Maria Rosa Mondini
URL:https://www.mediazioneiris.com/event/master-in-mediazione-penale-e-giustizia-riparativa-ed-2022-2/
CATEGORIES:Formazione
END:VEVENT
BEGIN:VEVENT
DTSTART;TZID=UTC:20210515T093000
DTEND;TZID=UTC:20210516T190000
DTSTAMP:20260420T170639
CREATED:20210712T155207Z
LAST-MODIFIED:20210712T155207Z
UID:3681-1621071000-1621191600@www.mediazioneiris.com
SUMMARY:MASTER IN MEDIAZIONE PENALE E GIUSTIZIA RIPARATIVA (ed. speciale 2020/2021)
DESCRIPTION:15 e 16 Maggio  2021 |  Attività formative nell’ambito del MASTER IN MEDIAZIONE PENALE E GIUSTIZIA RIPARATIVA (ed. speciale 2020/2021) \nModulo 4) Formatori: Dott.ssa GENZANO Francesca – Dott.ssa SILVESTRI Maria Dorinda – Dott.ssa TROMBARA Maria Alice \n 
URL:https://www.mediazioneiris.com/event/master-in-mediazione-penale-e-giustizia-riparativa-ed-speciale-2020-2021-4/
CATEGORIES:Formazione
END:VEVENT
BEGIN:VEVENT
DTSTART;TZID=UTC:20200911T093000
DTEND;TZID=UTC:20200913T183000
DTSTAMP:20260420T170639
CREATED:20200812T184551Z
LAST-MODIFIED:20200812T200017Z
UID:3429-1599816600-1600021800@www.mediazioneiris.com
SUMMARY:MASTER MEDIAZIONE PENALE E GIUSTIZIA RIPARATIVA – 1° ed. CAGLIARI
DESCRIPTION:  \n\nMASTER MEDIAZIONE PENALE E GIUSTIZIA RIPARATIVA – 1° ed. CAGLIARI\n\n\n\n11-12-13 Settembre 2020 | ore 9.30-13.30 / 14.30-18.30\nFormatore: Dott.ssa FRANCESCA GENZANO
URL:https://www.mediazioneiris.com/event/master-mediazione-penale-e-giustizia-riparativa-1-ed-cagliari-6/
LOCATION:Studio IRIS – sede Cagliari\, Via San Lucifero n. 65\, CAGLIARI
CATEGORIES:Formazione
END:VEVENT
BEGIN:VEVENT
DTSTART;TZID=UTC:20200314T093000
DTEND;TZID=UTC:20200315T183000
DTSTAMP:20260420T170639
CREATED:20200127T213135Z
LAST-MODIFIED:20200127T213135Z
UID:3282-1584178200-1584297000@www.mediazioneiris.com
SUMMARY:MASTER MEDIAZIONE PENALE E GIUSTIZIA RIPARATIVA - 1° ed. CAGLIARI
DESCRIPTION:MASTER MEDIAZIONE PENALE E GIUSTIZIA RIPARATIVA – 1° ed. CAGLIARI\n14 e 15 Marzo 2020 c/o Edizioni Giuridiche in Via Deledda n.70\nFormatore: Avv. Francesco Pisano
URL:https://www.mediazioneiris.com/event/master-mediazione-penale-e-giustizia-riparativa-1-ed-cagliari-2/
LOCATION:Studio IRIS – sede Cagliari\, Via San Lucifero n. 65\, CAGLIARI
CATEGORIES:Formazione
END:VEVENT
BEGIN:VEVENT
DTSTART;TZID=UTC:20200125T090000
DTEND;TZID=UTC:20200126T190000
DTSTAMP:20260420T170639
CREATED:20190929T161939Z
LAST-MODIFIED:20190929T161941Z
UID:3105-1579942800-1580065200@www.mediazioneiris.com
SUMMARY:Lezione MASTER IN MEDIAZIONE FAMILIARE – 1° ed. Taranto
DESCRIPTION:Formatori: Dott.ssa Francesca Genzano-Dott.ssa Maria Alice Trombara
URL:https://www.mediazioneiris.com/event/lezione-master-in-mediazione-familiare-1-ed-taranto-5/
LOCATION:Studio IRS c/o PAM Taranto\, Via Cagliari 30\, Taranto\, Italia
CATEGORIES:Formazione
END:VEVENT
BEGIN:VEVENT
DTSTART;TZID=UTC:20171216T090000
DTEND;TZID=UTC:20171217T190000
DTSTAMP:20260420T170639
CREATED:20171108T201428Z
LAST-MODIFIED:20171108T201537Z
UID:2661-1513414800-1513537200@www.mediazioneiris.com
SUMMARY:Lezione MASTER IN MEDIAZIONE FAMILIARE 2° ed. Roma
DESCRIPTION:  \nLezione MASTER IN MEDIAZIONE FAMILIARE – 2° ed. ROMA  \nDOCENTE: Dott.ssa Francesca Genzano – Dott. Roberto Ingravalle \n 
URL:https://www.mediazioneiris.com/event/lezione-master-mediazione-familiare-2-ed-roma-2/
LOCATION:Studio IRIS c/o Domus Australia\, Via Cernaia 14/b\, Roma\, 00185\, Italia
CATEGORIES:Formazione
END:VEVENT
BEGIN:VEVENT
DTSTART;TZID=UTC:20171118T090000
DTEND;TZID=UTC:20171119T190000
DTSTAMP:20260420T170639
CREATED:20171108T200532Z
LAST-MODIFIED:20171108T200830Z
UID:2655-1510995600-1511118000@www.mediazioneiris.com
SUMMARY:Lezione Master in Mediazione Familiare 2° ed. Roma
DESCRIPTION:Lezione MASTER IN MEDIAZIONE FAMILIARE – 2° ed. ROMA  \nDOCENTE: Dott.ssa Maria Alice Trombara \nMaster Mediazione Penale e Familiare
URL:https://www.mediazioneiris.com/event/lezione-master-mediazione-familiare-2-ed-roma/
LOCATION:Studio IRIS c/o Domus Australia\, Via Cernaia 14/b\, Roma\, 00185\, Italia
CATEGORIES:Formazione
END:VEVENT
BEGIN:VEVENT
DTSTART;TZID=UTC:20170908T210000
DTEND;TZID=UTC:20170908T223000
DTSTAMP:20260420T170639
CREATED:20170831T203726Z
LAST-MODIFIED:20170831T203729Z
UID:2642-1504904400-1504909800@www.mediazioneiris.com
SUMMARY:Spettacolo-Testimonianza per una cultura di pace
DESCRIPTION:Lo SPETTACOLO-TESTIMONIANZA PER UNA CULTURA DI PACE è un evento aperto al pubblico che narra con un linguaggio performativo la Summer School CREATIVE MEDIATION OF CONFLICTS\, la scuola estiva di Studio IRIS sugli strumenti innovativi di gestione creativa dei conflitti; una formazione che è un progetto di ricerca-azione sull’arte della mediazione\, nello spazio della Giustizia Riparativa\, per lo sviluppo di comunità eticamente responsabilità. La Summer School di Studio IRIS è articolata in tre giornate formative per un impegno complessivo di 30 ore\, tra lezioni\, group creative\, giochi di percezione ed identità\, momenti di #pratiche riflessive sull’ #arte della mediazione. L’esperienza formativa prevede la realizzazione di una #perfomance di #teatro–#mediazione finalizzata a narrare il lavoro svolto che\, anche nella #formazione\, riproduce le fasi di sviluppo della mediazione umanistica (teoria-crisi-catarsi) e sviluppa la #pedagogia della #tragedia greca per dare senso e significato al #dolore dell’uomo attraverso una permanente #educazione alla #responsabilità. \n 
URL:https://www.mediazioneiris.com/event/spettacolo-testimonianza-cultura-pace-3/
CATEGORIES:Spettacolo
END:VEVENT
BEGIN:VEVENT
DTSTART;TZID=UTC:20170907T090000
DTEND;TZID=UTC:20170909T200000
DTSTAMP:20260420T170639
CREATED:20170831T202917Z
LAST-MODIFIED:20170831T202918Z
UID:2635-1504774800-1504987200@www.mediazioneiris.com
SUMMARY:Summer School CREATIVE MEDIATION OF CONFLICTS
DESCRIPTION:
URL:https://www.mediazioneiris.com/event/summer-school-creative-mediation-of-conflicts-2/
CATEGORIES:Spettacolo
END:VEVENT
BEGIN:VEVENT
DTSTART;TZID=UTC:20170429T090000
DTEND;TZID=UTC:20170429T190000
DTSTAMP:20260420T170639
CREATED:20160501T111627Z
LAST-MODIFIED:20170210T163447Z
UID:2054-1493456400-1493492400@www.mediazioneiris.com
SUMMARY:ESAME - Master in Mediazione Familare 1° ed.Roma
DESCRIPTION:Studio IRIS\, c/o Domus Australia in ROMA \n\nCommissione Studio IRIS + Osservatore A.I.Me.F\nEsame finale del  “MASTER IN MEDIAZIONE DEI CONFLITTI – Specializzazione in Mediazione Familiare”\n1° ed.Roma\n\n     Test scritto \n     Discussione tesi \n     Simulata caso di mediazione familiare
URL:https://www.mediazioneiris.com/event/esame-2anno-master-mediazione-familare-1-ed-roma/
LOCATION:Studio IRIS c/o Domus Australia\, Via Cernaia 14/b\, Roma\, 00185\, Italia
CATEGORIES:Formazione
END:VEVENT
BEGIN:VEVENT
DTSTART;TZID=UTC:20161125T160000
DTEND;TZID=UTC:20161127T190000
DTSTAMP:20260420T170639
CREATED:20160501T113319Z
LAST-MODIFIED:20161116T124407Z
UID:2057-1480089600-1480273200@www.mediazioneiris.com
SUMMARY:Master in Mediazione Familiare 1° ed.Roma
DESCRIPTION:25-26-27 Novembre 2016 c/o Studio IRIS\, ROMA \n\n\nAttività formative del 2° anno accademico del “MASTER IN MEDIAZIONE DEI CONFLITTI- Specializzazione in Mediazione Familiare”\, 1° ed. Roma \nDocente:  Dott.ssa Francesca  Genzano- Dott.ssa Maria Alice Trombara
URL:https://www.mediazioneiris.com/event/master-mediazione-familiare-1-ed-roma-2/
LOCATION:Studio IRIS c/o Domus Australia\, Via Cernaia 14/b\, Roma\, 00185\, Italia
CATEGORIES:Formazione
END:VEVENT
BEGIN:VEVENT
DTSTART;TZID=UTC:20161111T150000
DTEND;TZID=UTC:20161113T200000
DTSTAMP:20260420T170639
CREATED:20160501T110540Z
LAST-MODIFIED:20161105T160843Z
UID:2051-1478876400-1479067200@www.mediazioneiris.com
SUMMARY:Master in Mediazione Penale  3°ed.Potenza
DESCRIPTION:11-12-13 Novembre 2016 c/o Studio IRIS\, Potenza \n\n\nAttività formative del 1° anno accademico “Specializzazione in Mediazione Penale” del MASTER IN MEDIAZIONE DEI CONFLITTI\, 3° ed.Potenza (2016/2018) \nDocenti:  Dott.ssa Maria Antonia Sprovera-Dott.ssa Francesca Genzano-Dott. Vito Garramone
URL:https://www.mediazioneiris.com/event/master-mediazione-penale-3ed-potenza-8/
LOCATION:Studio IRIS | Giardino dell’Arte della Mediazione\, viale dell'Ateneo Lucano 3\, Potenza\, 85100\, Italia
CATEGORIES:Formazione
END:VEVENT
BEGIN:VEVENT
DTSTART;TZID=UTC:20161022T090000
DTEND;TZID=UTC:20161023T190000
DTSTAMP:20260420T170639
CREATED:20161009T163602Z
LAST-MODIFIED:20161009T163602Z
UID:2241-1477126800-1477249200@www.mediazioneiris.com
SUMMARY:“MASTER IN MEDIAZIONE DEI CONFLITTI- Specializzazione in Mediazione Penale” 2° ed.Roma
DESCRIPTION:Lezione del “MASTER IN MEDIAZIONE DEI CONFLITTI- Specializzazione in Mediazione Penale” 2° ed.Roma (2016/2018) \nDocenti: Dott.ssa Isabella Mastropasqua-Dott.ssa Francesca Genzano \n 
URL:https://www.mediazioneiris.com/event/master-mediazione-dei-conflitti-specializzazione-mediazione-penale-2-ed-roma/
LOCATION:Studio IRIS c/o Domus Australia\, Via Cernaia 14/b\, Roma\, 00185\, Italia
CATEGORIES:Formazione
END:VEVENT
BEGIN:VEVENT
DTSTART;TZID=UTC:20160618T090000
DTEND;TZID=UTC:20160619T200000
DTSTAMP:20260420T170639
CREATED:20160430T221400Z
LAST-MODIFIED:20160616T210314Z
UID:2044-1466240400-1466366400@www.mediazioneiris.com
SUMMARY:Master in Mediazione Penale 3°ed. Potenza
DESCRIPTION:18-19 Giugno 2016 c/o Studio IRIS\, Potenza \n\n\nAttività formative del 1° anno accademico “Specializzazione in Mediazione Penale” del MASTER IN MEDIAZIONE DEI CONFLITTI\, 3° ed.Potenza (2016/2018) \nDocente:  Dott.ssa Francesca  Genzano\,  Avv. Paola De Filippo
URL:https://www.mediazioneiris.com/event/master-mediazione-penale-3ed-potenza-4/
LOCATION:Studio IRIS | Giardino dell’Arte della Mediazione\, viale dell'Ateneo Lucano 3\, Potenza\, 85100\, Italia
CATEGORIES:Formazione
END:VEVENT
BEGIN:VEVENT
DTSTART;TZID=UTC:20160327T080000
DTEND;TZID=UTC:20160327T170000
DTSTAMP:20260420T170639
CREATED:20160327T213921Z
LAST-MODIFIED:20160327T213947Z
UID:1977-1459065600-1459098000@www.mediazioneiris.com
SUMMARY:Master in Mediazione Penale  3°ed. Potenza
DESCRIPTION:14-15 Maggio 2016  c/o Studio IRIS\, Potenza \n\n\nAttività formative del 1° anno accademico “Specializzazione in Mediazione Penale” del MASTER IN MEDIAZIONE DEI CONFLITTI\, 3° ed.Potenza (2016/2018) \nDocente:  Dott.ssa Francesca  Genzano \n 
URL:https://www.mediazioneiris.com/event/master-mediazione-penale-3ed-potenza-2/
LOCATION:Studio IRIS | Giardino dell’Arte della Mediazione\, viale dell'Ateneo Lucano 3\, Potenza\, 85100\, Italia
CATEGORIES:Formazione
END:VEVENT
BEGIN:VEVENT
DTSTART;TZID=UTC:20160305T110000
DTEND;TZID=UTC:20160305T130000
DTSTAMP:20260420T170639
CREATED:20160103T172646Z
LAST-MODIFIED:20160327T194607Z
UID:1598-1457175600-1457182800@www.mediazioneiris.com
SUMMARY:Master in Mediazione Penale e Familiare 2° ed. ROMA
DESCRIPTION:Presentazione MASTER IN MEDIAZIONE DEI CONFLITTI- Specializzazione in Mediazione Penale e Familiare\, 2° ed.Roma (2016/2018)\nDott.ssa Francesca Genzano (Direttore Didattico Scientifico Master\, Formatore\, Supervisore)
URL:https://www.mediazioneiris.com/event/master-mediazione-penale-familiare-2-ed-roma/
LOCATION:Studio IRIS c/o Domus Australia\, Via Cernaia 14/b\, Roma\, 00185\, Italia
CATEGORIES:Formazione
END:VEVENT
BEGIN:VEVENT
DTSTART;TZID=UTC:20150805T090000
DTEND;TZID=UTC:20150809T190000
DTSTAMP:20260420T170639
CREATED:20160420T170855Z
LAST-MODIFIED:20160420T170855Z
UID:2024-1438765200-1439146800@www.mediazioneiris.com
SUMMARY:Summer School 2015 CREATIVE MEDIATION OF CONFLICTS
DESCRIPTION:Pagina EVENTO Facebook: https://www.facebook.com/events/1091519597543735/
URL:https://www.mediazioneiris.com/event/summer-school-2015-creative-mediation-of-conflicts/
LOCATION:Studio IRIS | Giardino dell’Arte della Mediazione\, viale dell'Ateneo Lucano 3\, Potenza\, 85100\, Italia
CATEGORIES:Evento culturale,Formazione,Spettacolo
END:VEVENT
BEGIN:VEVENT
DTSTART;TZID=UTC:20140516T150000
DTEND;TZID=UTC:20140516T190000
DTSTAMP:20260420T170639
CREATED:20160420T150256Z
LAST-MODIFIED:20160420T154416Z
UID:2019-1400252400-1400266800@www.mediazioneiris.com
SUMMARY:La mediazione penale tra vittima ed autore di reato
DESCRIPTION:
URL:https://www.mediazioneiris.com/event/la-mediazione-penale-vittima-ed-autore-reato/
LOCATION:Studio IRIS c/o Domus Australia\, Via Cernaia 14/b\, Roma\, 00185\, Italia
CATEGORIES:Evento culturale,Formazione
END:VEVENT
END:VCALENDAR