BEGIN:VCALENDAR
VERSION:2.0
PRODID:-//Studio IRIS - ECPv6.6.4.1//NONSGML v1.0//EN
CALSCALE:GREGORIAN
METHOD:PUBLISH
X-WR-CALNAME:Studio IRIS
X-ORIGINAL-URL:https://www.mediazioneiris.com
X-WR-CALDESC:Eventi per Studio IRIS
REFRESH-INTERVAL;VALUE=DURATION:PT1H
X-Robots-Tag:noindex
X-PUBLISHED-TTL:PT1H
BEGIN:VTIMEZONE
TZID:UTC
BEGIN:STANDARD
TZOFFSETFROM:+0000
TZOFFSETTO:+0000
TZNAME:UTC
DTSTART:20190101T000000
END:STANDARD
END:VTIMEZONE
BEGIN:VEVENT
DTSTART;TZID=UTC:20240909T093000
DTEND;TZID=UTC:20240909T190000
DTSTAMP:20260420T171843
CREATED:20240813T172534Z
LAST-MODIFIED:20240813T172534Z
UID:4806-1725874200-1725908400@www.mediazioneiris.com
SUMMARY:Corso di aggiornamento STRUMENTI E PROGRAMMI DI GIUSTIZIA RIPARATIVA
DESCRIPTION:
URL:https://www.mediazioneiris.com/event/corso-di-aggiornamento-strumenti-e-programmi-di-giustizia-riparativa-2/
CATEGORIES:Formazione
END:VEVENT
BEGIN:VEVENT
DTSTART;TZID=UTC:20231007T090000
DTEND;TZID=UTC:20231007T190000
DTSTAMP:20260420T171843
CREATED:20230716T103110Z
LAST-MODIFIED:20230716T104113Z
UID:4181-1696669200-1696705200@www.mediazioneiris.com
SUMMARY:Inaugurazione MASTER IN MEDIAZIONE FAMILIARE ed. 2023
DESCRIPTION:
URL:https://www.mediazioneiris.com/event/inaugurazione-master-in-mediazione-familiare-ed-2023/
LOCATION:Studio IRIS | Giardino dell’Arte della Mediazione\, viale dell'Ateneo Lucano 3\, Potenza\, 85100\, Italia
CATEGORIES:Formazione
END:VEVENT
BEGIN:VEVENT
DTSTART;TZID=UTC:20221203T090000
DTEND;TZID=UTC:20221204T190000
DTSTAMP:20260420T171843
CREATED:20220806T171411Z
LAST-MODIFIED:20220806T171426Z
UID:3980-1670058000-1670180400@www.mediazioneiris.com
SUMMARY:MASTER IN MEDIAZIONE PENALE E GIUSTIZIA RIPARATIVA | ed. 2022
DESCRIPTION:MASTER IN MEDIAZIONE PENALE E GIUSTIZIA RIPARATIVA | ed. 2022 \nDott.ssa Susanna Murru  – Prof.ssa Maria Rosa Mondini – Dott.ssa Francesca Genzano
URL:https://www.mediazioneiris.com/event/master-in-mediazione-penale-e-giustizia-riparativa-ed-2022-6/
CATEGORIES:Formazione
END:VEVENT
BEGIN:VEVENT
DTSTART;TZID=UTC:20221119T090000
DTEND;TZID=UTC:20221120T190000
DTSTAMP:20260420T171843
CREATED:20220806T170909Z
LAST-MODIFIED:20221119T185515Z
UID:3976-1668848400-1668970800@www.mediazioneiris.com
SUMMARY:MASTER IN MEDIAZIONE PENALE E GIUSTIZIA RIPARATIVA | ed. 2022
DESCRIPTION:MASTER IN MEDIAZIONE PENALE E GIUSTIZIA RIPARATIVA | ed. 2022/2023 \nModulo 8) SERVIZI PER LE VITTIME DI REATI  \nDott. Marco Bouchard – Dott.ssa Francesca Genzano – Dott.ssa Maria Dorinda Silvestri
URL:https://www.mediazioneiris.com/event/master-in-mediazione-penale-e-giustizia-riparativa-ed-2022-5/
CATEGORIES:Formazione
END:VEVENT
BEGIN:VEVENT
DTSTART;TZID=UTC:20221015T090000
DTEND;TZID=UTC:20221016T190000
DTSTAMP:20260420T171843
CREATED:20220806T162822Z
LAST-MODIFIED:20220806T162822Z
UID:3972-1665824400-1665946800@www.mediazioneiris.com
SUMMARY:MASTER IN MEDIAZIONE PENALE E GIUSTIZIA RIPARATIVA | ed. 2022
DESCRIPTION:MASTER IN MEDIAZIONE PENALE E GIUSTIZIA RIPARATIVA | ed. 2022 \nDocente: Dott.ssa Francesca Genzano
URL:https://www.mediazioneiris.com/event/master-in-mediazione-penale-e-giustizia-riparativa-ed-2022-3/
CATEGORIES:Formazione
END:VEVENT
BEGIN:VEVENT
DTSTART;TZID=UTC:20221001T090000
DTEND;TZID=UTC:20221002T190000
DTSTAMP:20260420T171843
CREATED:20220806T162640Z
LAST-MODIFIED:20220806T162640Z
UID:3970-1664614800-1664737200@www.mediazioneiris.com
SUMMARY:MASTER IN MEDIAZIONE PENALE E GIUSTIZIA RIPARATIVA | ed. 2022
DESCRIPTION:MASTER IN MEDIAZIONE PENALE E GIUSTIZIA RIPARATIVA | ed. 2022\nDocenti: Dott.ssa Francesca Genzano – Prof.ssa Maria Rosa Mondini
URL:https://www.mediazioneiris.com/event/master-in-mediazione-penale-e-giustizia-riparativa-ed-2022-2/
CATEGORIES:Formazione
END:VEVENT
BEGIN:VEVENT
DTSTART;TZID=UTC:20220909T090000
DTEND;TZID=UTC:20220910T140000
DTSTAMP:20260420T171843
CREATED:20220802T160544Z
LAST-MODIFIED:20220806T152742Z
UID:3961-1662714000-1662818400@www.mediazioneiris.com
SUMMARY:TRAINING IN MEDIAZIONE PENALE | Cagliari
DESCRIPTION:TRAINING IN MEDIAZIONE PENALE CON LA DOTT.SSA FRANCESCA GENZANO \nCAGLIARI 9 e 10 SETTEMBRE 2022
URL:https://www.mediazioneiris.com/event/training-in-mediazione-penale-cagliari/
LOCATION:Studio IRIS – sede Cagliari\, Via San Lucifero n. 65\, CAGLIARI
CATEGORIES:Formazione,Supervisione
END:VEVENT
BEGIN:VEVENT
DTSTART;TZID=UTC:20220226T103000
DTEND;TZID=UTC:20220226T123000
DTSTAMP:20260420T171843
CREATED:20220204T204154Z
LAST-MODIFIED:20220205T125812Z
UID:3827-1645871400-1645878600@www.mediazioneiris.com
SUMMARY:IL MEDIATORE PENALE ESPERTO IN PROGRAMMI DI GIUSTIZIA RIPARATIVA
DESCRIPTION:
URL:https://www.mediazioneiris.com/event/presentazione-master-in-mediazione-penale-e-giustizia-riparativa/
CATEGORIES:Formazione
END:VEVENT
BEGIN:VEVENT
DTSTART;TZID=UTC:20220115T093000
DTEND;TZID=UTC:20220115T183000
DTSTAMP:20260420T171843
CREATED:20211113T211726Z
LAST-MODIFIED:20220101T165036Z
UID:3747-1642239000-1642271400@www.mediazioneiris.com
SUMMARY:Esame MASTER IN MEDIAZIONE PENALE E GIUSTIZIA RIPARATIVA ed.2020/2021
DESCRIPTION:
URL:https://www.mediazioneiris.com/event/esame-master-in-mediazione-penale-e-giustizia-riparativa-ed-2020-2021/
LOCATION:Studio IRIS | Giardino dell’Arte della Mediazione\, viale dell'Ateneo Lucano 3\, Potenza\, 85100\, Italia
CATEGORIES:Formazione
END:VEVENT
BEGIN:VEVENT
DTSTART;VALUE=DATE:20211113
DTEND;VALUE=DATE:20211114
DTSTAMP:20260420T171843
CREATED:20211113T195820Z
LAST-MODIFIED:20211115T113704Z
UID:3707-1636761600-1636847999@www.mediazioneiris.com
SUMMARY:Apertura iscrizioni MASTER IN MEDIAZIONE PENALE E GIUSTIZIA RIPARATIVA
DESCRIPTION:Per scaricare la brochure del Master e il modulo di iscrizione\, cliccare qui:\nbrochure_Master MP e Giustizia Riparativa_StudioIRIS_2022\nModulo iscrizione MASTER MEDIAZIONE PENALE_edizione_2022\n 
URL:https://www.mediazioneiris.com/event/apertura-iscrizioni-master-in-mediazione-penale-e-giustizia-riparativa/
CATEGORIES:Formazione
END:VEVENT
BEGIN:VEVENT
DTSTART;TZID=UTC:20211030T093000
DTEND;TZID=UTC:20211031T183000
DTSTAMP:20260420T171843
CREATED:20211113T202837Z
LAST-MODIFIED:20211113T202911Z
UID:3731-1635586200-1635705000@www.mediazioneiris.com
SUMMARY:Lezione MASTER IN MEDIAZIONE PENALE E GIUSTIZIA RIPARATIVA 1°ed. Cagliari
DESCRIPTION:Lezione MASTER IN MEDIAZIONE PENALE E GIUSTIZIA RIPARATIVA 1°ed. Cagliari \n30 e 31 Ottobre 2021 | ore 9.30/13.30-14.30/18.30 | Formatore: Dott.ssa Susanna Murru
URL:https://www.mediazioneiris.com/event/lezione-master-in-mediazione-penale-e-giustizia-riparativa-1ed-cagliari/
LOCATION:Studio IRIS – sede Cagliari\, Via San Lucifero n. 65\, CAGLIARI
CATEGORIES:Formazione
END:VEVENT
BEGIN:VEVENT
DTSTART;TZID=UTC:20210924T143000
DTEND;TZID=UTC:20210926T193000
DTSTAMP:20260420T171843
CREATED:20211113T203216Z
LAST-MODIFIED:20211113T203216Z
UID:3733-1632493800-1632684600@www.mediazioneiris.com
SUMMARY:Lezione MASTER IN MEDIAZIONE PENALE E GIUSTIZIA RIPARATIVA 1°ed. Cagliari
DESCRIPTION:Lezione MASTER IN MEDIAZIONE PENALE E GIUSTIZIA RIPARATIVA 1°ed. Cagliari \n24 Settembre ore 14.30/19.30 – 25 e 26 Settembre ore 9.30/19.30 | Formatore : Dott.ssa Francesca Genzano
URL:https://www.mediazioneiris.com/event/lezione-master-in-mediazione-penale-e-giustizia-riparativa-1ed-cagliari-2/
LOCATION:Studio IRIS – sede Cagliari\, Via San Lucifero n. 65\, CAGLIARI
CATEGORIES:Formazione
END:VEVENT
BEGIN:VEVENT
DTSTART;TZID=UTC:20210703T093000
DTEND;TZID=UTC:20210705T190000
DTSTAMP:20260420T171843
CREATED:20210712T153018Z
LAST-MODIFIED:20210712T153018Z
UID:3671-1625304600-1625511600@www.mediazioneiris.com
SUMMARY:MASTER IN MEDIAZIONE PENALE E GIUSTIZIA RIPARATIVA - ed. speciale 2020/2021
DESCRIPTION:Modulo 8 e 9 |  week end formativo del MASTER IN MEDIAZIONE PENALE E GIUSTIZIA RIPARATIVA: \n\n\n\n\n\n\n3 Luglio 2021  (ore 9.30/18.30) Dott.ssa Genzano Francesca \n4 Luglio 2021 (ore 9.30/18.30) Prof.ssa Mondini Maria Rosa \n5 Luglio 2021  (ore 15.00/19.00) Dott.ssa Mercantini Alessandra \n\n\n\n 
URL:https://www.mediazioneiris.com/event/master-in-mediazione-penale-e-giustizia-riparativa-ed-speciale-2020-2021/
CATEGORIES:Formazione
END:VEVENT
BEGIN:VEVENT
DTSTART;TZID=UTC:20210703T093000
DTEND;TZID=UTC:20210704T190000
DTSTAMP:20260420T171843
CREATED:20210712T153531Z
LAST-MODIFIED:20210712T153609Z
UID:3673-1625304600-1625425200@www.mediazioneiris.com
SUMMARY:MASTER IN MEDIAZIONE PENALE E GIUSTIZIA RIPARATIVA - 1° ed. CAGLIARI
DESCRIPTION:Week end formativo nell’ambito del MASTER IN MEDIAZIONE PENALE E GIUSTIZIA RIPARATIVA – 1° ed. CAGLIARI: \n3 LUGLIO 2021 (ore 9.30/18.30) Formatore: Dott.ssa GENTILE MARIACHIARA \n4 LUGLIO 2021 (ore 9.30/18.30) Formatore: MAHOUNGOU FELIX \nc/o HOTEL CAESAR – Cagliari
URL:https://www.mediazioneiris.com/event/master-in-mediazione-penale-e-giustizia-riparativa-1-ed-cagliari-4/
LOCATION:Studio IRIS – sede Cagliari\, Via San Lucifero n. 65\, CAGLIARI
CATEGORIES:Formazione
END:VEVENT
BEGIN:VEVENT
DTSTART;TZID=UTC:20210619T093000
DTEND;TZID=UTC:20210620T190000
DTSTAMP:20260420T171843
CREATED:20210712T154626Z
LAST-MODIFIED:20210712T154627Z
UID:3677-1624095000-1624215600@www.mediazioneiris.com
SUMMARY:MASTER IN MEDIAZIONE PENALE E GIUSTIZIA RIPARATIVA (ed. speciale 2020/2021)
DESCRIPTION:19 e 20 GIUGNO 2021 | Attività formative nell’ambito del MASTER IN MEDIAZIONE PENALE E GIUSTIZIA RIPARATIVA (ed. speciale 2020/2021): \nModulo 6) Dott.ssa GENZANO FRANCESCA \nModulo 7) Dott.ssa MURRU SUSANNA
URL:https://www.mediazioneiris.com/event/master-in-mediazione-penale-e-giustizia-riparativa-ed-speciale-2020-2021-2/
CATEGORIES:Formazione
END:VEVENT
BEGIN:VEVENT
DTSTART;TZID=UTC:20210605T090000
DTEND;TZID=UTC:20210606T190000
DTSTAMP:20260420T171843
CREATED:20210712T154851Z
LAST-MODIFIED:20210712T155021Z
UID:3679-1622883600-1623006000@www.mediazioneiris.com
SUMMARY:MASTER IN MEDIAZIONE PENALE E GIUSTIZIA RIPARATIVA (ed. speciale 2020/2021)
DESCRIPTION:5 e 6 GIUGNO 2021 |  Attività formative nell’ambito del MASTER IN MEDIAZIONE PENALE E GIUSTIZIA RIPARATIVA (ed. speciale 2020/2021) \nModulo 5) Formatori: Dott.ssa SILVESTRI Maria Dorinda – Dott.ssa TROMBARA Maria Alice
URL:https://www.mediazioneiris.com/event/master-in-mediazione-penale-e-giustizia-riparativa-ed-speciale-2020-2021-3/
CATEGORIES:Formazione
END:VEVENT
BEGIN:VEVENT
DTSTART;TZID=UTC:20210515T093000
DTEND;TZID=UTC:20210516T190000
DTSTAMP:20260420T171843
CREATED:20210712T155207Z
LAST-MODIFIED:20210712T155207Z
UID:3681-1621071000-1621191600@www.mediazioneiris.com
SUMMARY:MASTER IN MEDIAZIONE PENALE E GIUSTIZIA RIPARATIVA (ed. speciale 2020/2021)
DESCRIPTION:15 e 16 Maggio  2021 |  Attività formative nell’ambito del MASTER IN MEDIAZIONE PENALE E GIUSTIZIA RIPARATIVA (ed. speciale 2020/2021) \nModulo 4) Formatori: Dott.ssa GENZANO Francesca – Dott.ssa SILVESTRI Maria Dorinda – Dott.ssa TROMBARA Maria Alice \n 
URL:https://www.mediazioneiris.com/event/master-in-mediazione-penale-e-giustizia-riparativa-ed-speciale-2020-2021-4/
CATEGORIES:Formazione
END:VEVENT
BEGIN:VEVENT
DTSTART;TZID=UTC:20201024T090000
DTEND;TZID=UTC:20201025T190000
DTSTAMP:20260420T171843
CREATED:20201024T111354Z
LAST-MODIFIED:20201024T111354Z
UID:3621-1603530000-1603652400@www.mediazioneiris.com
SUMMARY:Lezione MASTER MEDIAZIONE PENALE E GIUSTIZIA RIPARATIVA
DESCRIPTION:LEZIONE MASTER MEDIAZIONE PENALE E GIUSTIZIA RIPARATIVA\nMODULO 2) SPAZI NORMATIVI PER LA MEDIAZIONE E LA GIUSTIZIA RIPARATIVA \n24 e 25 Ottobre 2020 | Formatori: \nDott.ssa Isabella Mastropasqua\, Avv. Francesca Di Muzio\, Dott.ssa Francesca Genzano\,  Avv. Ottavia Murro \n \n  \n 
URL:https://www.mediazioneiris.com/event/lezione-master-mediazione-penale-e-giustizia-riparativa/
LOCATION:Studio IRIS | Giardino dell’Arte della Mediazione\, viale dell'Ateneo Lucano 3\, Potenza\, 85100\, Italia
CATEGORIES:Formazione
END:VEVENT
BEGIN:VEVENT
DTSTART;TZID=UTC:20200920T093000
DTEND;TZID=UTC:20200920T183000
DTSTAMP:20260420T171843
CREATED:20200812T184906Z
LAST-MODIFIED:20200812T184906Z
UID:3431-1600594200-1600626600@www.mediazioneiris.com
SUMMARY:inaugurazione MASTER MEDIAZIONE PENALE E GIUSTIZIA RIPARATIVA 
DESCRIPTION:Inaugurazione e avvio attività\nMASTER MEDIAZIONE PENALE E GIUSTIZIA RIPARATIVA
URL:https://www.mediazioneiris.com/event/inaugurazione-master-mediazione-penale-e-giustizia-riparativa/
LOCATION:Studio IRIS | Giardino dell’Arte della Mediazione\, viale dell'Ateneo Lucano 3\, Potenza\, 85100\, Italia
CATEGORIES:Formazione
END:VEVENT
BEGIN:VEVENT
DTSTART;TZID=UTC:20200911T093000
DTEND;TZID=UTC:20200913T183000
DTSTAMP:20260420T171843
CREATED:20200812T184551Z
LAST-MODIFIED:20200812T200017Z
UID:3429-1599816600-1600021800@www.mediazioneiris.com
SUMMARY:MASTER MEDIAZIONE PENALE E GIUSTIZIA RIPARATIVA – 1° ed. CAGLIARI
DESCRIPTION:  \n\nMASTER MEDIAZIONE PENALE E GIUSTIZIA RIPARATIVA – 1° ed. CAGLIARI\n\n\n\n11-12-13 Settembre 2020 | ore 9.30-13.30 / 14.30-18.30\nFormatore: Dott.ssa FRANCESCA GENZANO
URL:https://www.mediazioneiris.com/event/master-mediazione-penale-e-giustizia-riparativa-1-ed-cagliari-6/
LOCATION:Studio IRIS – sede Cagliari\, Via San Lucifero n. 65\, CAGLIARI
CATEGORIES:Formazione
END:VEVENT
BEGIN:VEVENT
DTSTART;TZID=UTC:20200904T093000
DTEND;TZID=UTC:20200905T183000
DTSTAMP:20260420T171843
CREATED:20200812T184327Z
LAST-MODIFIED:20200812T184328Z
UID:3427-1599211800-1599330600@www.mediazioneiris.com
SUMMARY:MASTER MEDIAZIONE PENALE E GIUSTIZIA RIPARATIVA – 1° ed. CAGLIARI
DESCRIPTION:  \n\n\n\nMASTER MEDIAZIONE PENALE E GIUSTIZIA RIPARATIVA – 1° ed. CAGLIARI\n\n\n\n4 e 5 Settembre 2020 | ore 9.30-13.30 / 14.30-18.30\nFormatori: Dott.ssa MARIA ALICE TROMBARA – MARIA DORINDA SILVESTRI
URL:https://www.mediazioneiris.com/event/master-mediazione-penale-e-giustizia-riparativa-1-ed-cagliari-5/
LOCATION:Studio IRIS – sede Cagliari\, Via San Lucifero n. 65\, CAGLIARI
CATEGORIES:Formazione
END:VEVENT
BEGIN:VEVENT
DTSTART;TZID=UTC:20200606T093000
DTEND;TZID=UTC:20200607T183000
DTSTAMP:20260420T171843
CREATED:20200127T215532Z
LAST-MODIFIED:20200606T192009Z
UID:3297-1591435800-1591554600@www.mediazioneiris.com
SUMMARY:MASTER MEDIAZIONE PENALE E GIUSTIZIA RIPARATIVA – 1° ed. CAGLIARI
DESCRIPTION:MASTER MEDIAZIONE PENALE E GIUSTIZIA RIPARATIVA – 1° ed. CAGLIARI\n\n\n\nFormatore: Dott.ssa FRANCESCA GENZANO
URL:https://www.mediazioneiris.com/event/master-mediazione-penale-e-giustizia-riparativa-1-ed-cagliari-4/
LOCATION:Studio IRIS – sede Cagliari\, Via San Lucifero n. 65\, CAGLIARI
CATEGORIES:Formazione
END:VEVENT
BEGIN:VEVENT
DTSTART;TZID=UTC:20200418T090000
DTEND;TZID=UTC:20200419T190000
DTSTAMP:20260420T171843
CREATED:20190929T165533Z
LAST-MODIFIED:20190929T165534Z
UID:3113-1587200400-1587322800@www.mediazioneiris.com
SUMMARY:Lezione MASTER IN MEDIAZIONE FAMILIARE – 1° ed. Taranto
DESCRIPTION:Formatore: Prof.ssa Maria Rosa Mondini
URL:https://www.mediazioneiris.com/event/lezione-master-in-mediazione-familiare-1-ed-taranto-9/
LOCATION:Studio IRS c/o PAM Taranto\, Via Cagliari 30\, Taranto\, Italia
CATEGORIES:Formazione
END:VEVENT
BEGIN:VEVENT
DTSTART;TZID=UTC:20200404T093000
DTEND;TZID=UTC:20200405T183000
DTSTAMP:20260420T171843
CREATED:20200127T212929Z
LAST-MODIFIED:20200127T212929Z
UID:3280-1585992600-1586111400@www.mediazioneiris.com
SUMMARY:MASTER MEDIAZIONE PENALE E GIUSTIZIA RIPARATIVA - 1° ed. CAGLIARI
DESCRIPTION:MASTER MEDIAZIONE PENALE E GIUSTIZIA RIPARATIVA – 1° ed. CAGLIARI\n4 e 5 Aprile 2020 c/o Edizioni Giuridiche in Via Deledda n.70\nFormatore: Avv. Francesco Pisano
URL:https://www.mediazioneiris.com/event/master-mediazione-penale-e-giustizia-riparativa-1-ed-cagliari/
LOCATION:Studio IRIS – sede Cagliari\, Via San Lucifero n. 65\, CAGLIARI
CATEGORIES:Formazione
END:VEVENT
BEGIN:VEVENT
DTSTART;TZID=UTC:20200215T093000
DTEND;TZID=UTC:20200216T183000
DTSTAMP:20260420T171843
CREATED:20190929T120124Z
LAST-MODIFIED:20200127T211728Z
UID:3088-1581759000-1581877800@www.mediazioneiris.com
SUMMARY:Inaugurazione MASTER IN MEDIAZIONE PENALE E GIUSTIZIA RIPARATIVA
DESCRIPTION:Inaugurazione e avvio attività MASTER MEDIAZIONE PENALE E GIUSTIZIA RIPARATIVA – 1° ed. CAGLIARI\n15 e 16 Febbraio 2020 c/o Edizioni Giuridiche in Via Deledda n.70\nDott.ssa GENZANO Francesca – Dott.ssa MURRU Susanna\n\n\n  \n 
URL:https://www.mediazioneiris.com/event/inaugurazione-master-in-mediazione-penale-e-giustizia-riparativa/
LOCATION:Studio IRIS – sede Cagliari\, Via San Lucifero n. 65\, CAGLIARI
CATEGORIES:Formazione
END:VEVENT
BEGIN:VEVENT
DTSTART;TZID=UTC:20200125T090000
DTEND;TZID=UTC:20200126T190000
DTSTAMP:20260420T171843
CREATED:20190929T161939Z
LAST-MODIFIED:20190929T161941Z
UID:3105-1579942800-1580065200@www.mediazioneiris.com
SUMMARY:Lezione MASTER IN MEDIAZIONE FAMILIARE – 1° ed. Taranto
DESCRIPTION:Formatori: Dott.ssa Francesca Genzano-Dott.ssa Maria Alice Trombara
URL:https://www.mediazioneiris.com/event/lezione-master-in-mediazione-familiare-1-ed-taranto-5/
LOCATION:Studio IRS c/o PAM Taranto\, Via Cagliari 30\, Taranto\, Italia
CATEGORIES:Formazione
END:VEVENT
BEGIN:VEVENT
DTSTART;TZID=UTC:20191214T090000
DTEND;TZID=UTC:20191215T190000
DTSTAMP:20260420T171843
CREATED:20191101T212342Z
LAST-MODIFIED:20191101T212345Z
UID:3253-1576314000-1576436400@www.mediazioneiris.com
SUMMARY:Lezione MASTER MEDIAZIONE DEI CONFLITTI-Specializzazione Mediazione Penale | PESCARA
DESCRIPTION:Lezione MASTER MEDIAZIONE DEI CONFLITTI-Specializzazione Mediazione Penale | PESCARA
URL:https://www.mediazioneiris.com/event/lezione-master-mediazione-dei-conflitti-specializzazione-mediazione-penale-pescara-2/
LOCATION:Studio IRIS – sede Pescara\, Via Ragazzi del '99\, Pescara
CATEGORIES:Formazione
END:VEVENT
BEGIN:VEVENT
DTSTART;TZID=UTC:20191116T100000
DTEND;TZID=UTC:20191117T190000
DTSTAMP:20260420T171843
CREATED:20190929T120351Z
LAST-MODIFIED:20190929T120353Z
UID:3091-1573898400-1574017200@www.mediazioneiris.com
SUMMARY:Inaugurazione MASTER IN MEDIAZIONE PENALE E GIUSTIZIA RIPARATIVA
DESCRIPTION:
URL:https://www.mediazioneiris.com/event/inaugurazione-master-in-mediazione-penale-e-giustizia-riparativa-2/
LOCATION:Studio IRIS – sede Salerno\, SALERNO
CATEGORIES:Formazione
END:VEVENT
BEGIN:VEVENT
DTSTART;TZID=UTC:20190615T090000
DTEND;TZID=UTC:20190616T190000
DTSTAMP:20260420T171843
CREATED:20190929T121330Z
LAST-MODIFIED:20190929T123637Z
UID:3094-1560589200-1560711600@www.mediazioneiris.com
SUMMARY:Lezione MASTER IN MEDIAZIONE FAMILIARE – 1° ed. Taranto
DESCRIPTION:Formatori: Dott. Paolo Danza e Dott.ssa Francesca Genzano \n 
URL:https://www.mediazioneiris.com/event/lezione-master-in-mediazione-familiare-1-ed-taranto/
LOCATION:Studio IRIS – sede Taranto\, c/o PAM \, Via Cagliari 30\, TARANTO
CATEGORIES:Formazione
END:VEVENT
BEGIN:VEVENT
DTSTART;TZID=UTC:20190427T100000
DTEND;TZID=UTC:20190428T190000
DTSTAMP:20260420T171843
CREATED:20190330T192618Z
LAST-MODIFIED:20190330T195853Z
UID:3008-1556359200-1556478000@www.mediazioneiris.com
SUMMARY:Lezione MASTER MEDIAZIONE DEI CONFLITTI-Specializzazione Mediazione Penale | PESCARA
DESCRIPTION:  \n  \n 
URL:https://www.mediazioneiris.com/event/lezione-master-mediazione-dei-conflitti-specializzazione-mediazione-penale-pescara/
LOCATION:Studio IRIS – sede Pescara\, Via Ragazzi del '99\, Pescara
CATEGORIES:Formazione
END:VEVENT
END:VCALENDAR