BEGIN:VCALENDAR
VERSION:2.0
PRODID:-//Studio IRIS - ECPv6.6.4.1//NONSGML v1.0//EN
CALSCALE:GREGORIAN
METHOD:PUBLISH
X-ORIGINAL-URL:https://www.mediazioneiris.com
X-WR-CALDESC:Eventi per Studio IRIS
REFRESH-INTERVAL;VALUE=DURATION:PT1H
X-Robots-Tag:noindex
X-PUBLISHED-TTL:PT1H
BEGIN:VTIMEZONE
TZID:UTC
BEGIN:STANDARD
TZOFFSETFROM:+0000
TZOFFSETTO:+0000
TZNAME:UTC
DTSTART:20260101T000000
END:STANDARD
END:VTIMEZONE
BEGIN:VEVENT
DTSTART;TZID=UTC:20260925T150000
DTEND;TZID=UTC:20260925T190000
DTSTAMP:20260420T172048
CREATED:20260111T172231Z
LAST-MODIFIED:20260111T181935Z
UID:5215-1790348400-1790362800@www.mediazioneiris.com
SUMMARY:SUPERVISIONE PROFESSIONALE AIMeF CON ATTIVITA' LABORATORIALE | ROMA
DESCRIPTION:SUPERVISIONE PROFESSIONALE DI GRUPPO IN PRESENZA (ex Norma Tecnica UNI 11644 e art. 7 Regolamento A.I.Me.F. \n+ ATTIVITA’ LABORATORIALE SU CASI TEORICO-PRATICI (Ex Decreto Interm. 151/2023) \nSEDE: DOMUS AUSTRALIA\, VIA CERNAIA N.14/B-ROMA \nSUPERVISORE-FORMATORE: DOTT.SSA FRANCESCA GENZANO \nLe ore di Supervisione svolte in presenza possono essere considerate valide\, fino ad un massimo di 4 ore\, anche ai fini dell’assolvimento parziale della 10 ore di aggiornamento professionale continuo previsto dal Decreto interministeriale 151/2023. \nAttività idonea al RILASCIO DI Attestato di SUPERVISIONE PROFESSIONALE E AGGIORNAMENTO PROFESSIONALE firmato dal Supervisore-Formatore\, contenente sia l’indicazione delle ore di “Supervisione Professionale di gruppo in Presenza” Valide ai fini dell’art. 7 Regolamento A.I.Me.F. e della Norma TECNICA UNI 11644″\, sia delle ore di“ Attività laboratoriali da svolgersi in presenza\, su casi teorico-pratici” Valide ai fini dell’aggiornamento professionale continuo\, ai sensi del Decreto Interministeriale 151/2023 \nmax 12 partecipanti \nCOSTO DI PARTECIPAZIONE: Quota Intera € 45 IVA INCLUSA | Quota scontata per i soci A.I.Me.F. € 30 IVA INCLUSA \nPER ISCRIZIONI\, COMPILARE GOOGLE.FORM: https://forms.gle/1JNTJ5KjuzTdunPF6 \n  \n 
URL:https://www.mediazioneiris.com/event/supervisione-professionale-aimef-con-attivita-laboratoriale/
LOCATION:Studio IRIS c/o Domus Australia\, Via Cernaia 14/b\, Roma\, 00185\, Italia
CATEGORIES:Supervisione
END:VEVENT
END:VCALENDAR