BEGIN:VCALENDAR
VERSION:2.0
PRODID:-//Studio IRIS - ECPv6.6.4.1//NONSGML v1.0//EN
CALSCALE:GREGORIAN
METHOD:PUBLISH
X-ORIGINAL-URL:https://www.mediazioneiris.com
X-WR-CALDESC:Eventi per Studio IRIS
REFRESH-INTERVAL;VALUE=DURATION:PT1H
X-Robots-Tag:noindex
X-PUBLISHED-TTL:PT1H
BEGIN:VTIMEZONE
TZID:UTC
BEGIN:STANDARD
TZOFFSETFROM:+0000
TZOFFSETTO:+0000
TZNAME:UTC
DTSTART:20220101T000000
END:STANDARD
END:VTIMEZONE
BEGIN:VEVENT
DTSTART;TZID=UTC:20251222T093000
DTEND;TZID=UTC:20251222T123000
DTSTAMP:20260420T171754
CREATED:20250920T180112Z
LAST-MODIFIED:20250920T181436Z
UID:5135-1766395800-1766406600@www.mediazioneiris.com
SUMMARY:SUPERVISIONE PROFESSIONALE MEDIATORI FAMILIARI
DESCRIPTION:
URL:https://www.mediazioneiris.com/event/supervisione-professionale-mediatori-familiari-17/
CATEGORIES:Supervisione
END:VEVENT
BEGIN:VEVENT
DTSTART;TZID=UTC:20251114T093000
DTEND;TZID=UTC:20251114T123000
DTSTAMP:20260420T171754
CREATED:20250920T181535Z
LAST-MODIFIED:20250920T181535Z
UID:5140-1763112600-1763123400@www.mediazioneiris.com
SUMMARY:SUPERVISIONE PROFESSIONALE MEDIATORI FAMILIARI
DESCRIPTION:
URL:https://www.mediazioneiris.com/event/supervisione-professionale-mediatori-familiari-24/
CATEGORIES:Supervisione
END:VEVENT
BEGIN:VEVENT
DTSTART;TZID=UTC:20250408T150000
DTEND;TZID=UTC:20250408T180000
DTSTAMP:20260420T171754
CREATED:20250115T192159Z
LAST-MODIFIED:20250224T081023Z
UID:4996-1744124400-1744135200@www.mediazioneiris.com
SUMMARY:Supervisione per Mediatori Familiari
DESCRIPTION:Supervisione per Mediatori Familiari \nSupervisore Professionale AIMeF: Dott.ssa Maria Dorinda Silvestri
URL:https://www.mediazioneiris.com/event/supervisione-per-mediatori-familiari/
CATEGORIES:Supervisione
END:VEVENT
BEGIN:VEVENT
DTSTART;TZID=UTC:20241209T143000
DTEND;TZID=UTC:20241209T210000
DTSTAMP:20260420T171754
CREATED:20241128T154431Z
LAST-MODIFIED:20241212T173525Z
UID:4954-1733754600-1733778000@www.mediazioneiris.com
SUMMARY:MEDIAZIONE FAMILIARE E COORDINAZIONE GENITORIALE
DESCRIPTION:  \nMEDIAZIONE FAMILIARE E COORDINAZIONE GENITORIALE \n\n\n 𝟗 𝐃𝐢𝐜𝐞𝐦𝐛𝐫𝐞 𝟐𝟎𝟐𝟒 𝐨𝐫𝐞 𝟏𝟒.𝟑𝟎/𝟏𝟕.𝟑𝟎\nVia Cagliari n.30\, Taranto c/o PAM Service\nIncontro di aggiornamento professionale per Mediatori Familiari\n“𝐌𝐄𝐃𝐈𝐀𝐙𝐈𝐎𝐍𝐄 𝐅𝐀𝐌𝐈𝐋𝐈𝐀𝐑𝐄 𝐄 𝐂𝐎𝐎𝐑𝐃𝐈𝐍𝐀𝐙𝐈𝐎𝐍𝐄 𝐆𝐄𝐍𝐈𝐓𝐎𝐑𝐈𝐀𝐋𝐄”Attività laboratoriali in presenza su casi teorico-pratici\n𝐭𝐨𝐭. 𝟑 𝐨𝐫𝐞 | evento valido ai fini dell’ #AggiornamentoProfessionale continuo del Mediatori Familiari Ex Decreto Interministeriale 151/2023 e della Norma Tecnica UNI 11644/2016\n\n\nMEDIAZIONE FAMILIARE E COORDINAZIONE GENITORIALE  – Attività laboratoriali in presenza su casi teorico-pratici e Supervisione \nL’incontro laboratoriale in presenza approfondirà\, attraverso una esplorazione teorico-pratica e metodologica dei due percorsi ed una casistica offerta dai formatori\, le ipotesi di fattibilità di una mediazione familiare in situazioni di forte conflittualità\, anche alla luce della Riforma Cartabia che riconosce uno specifico ruolo alla MEDIAZIONE FAMILIARE (art. 473 bis. 10 cpc) per la gestione e trasformazione del conflitto nella fase della separazione coniugale e del divorzio ed uno specifico spazio anche alla COORDINAZIONE GENITORIALE (art. 473 bis. 26 cpc) per la gestione dell’alta e persistente conflittualità. Tale conflittualità incide in modo significativo sullo sviluppo psicofisico dei figli minori e sulla qualità della vita di tutti i membri della famiglia\, pertanto\, a seconda della fattibilità nel caso specifico\, della mediazione o della coordinazione\, è necessario che il Mediatore Familiare sappia valutare quando l’alta conflittualità non può essere accolta in mediazione e conosca le differenze ed i limiti tra i due percorsi. Entrambi i percorsi di mediazione familiare e di coordinazione genitoriale sono comunque finalizzati a gestire e superare la distruttività del conflitto tra i genitori\, entrambi rappresentano forme di protezione dei figli minori e strumenti funzionali a promuovere una comunicazione efficace e/o il miglioramento delle relazioni tra genitori e figli.\nFormatori: Dott.ssa Francesca Genzano – Dott. Giuseppe Carli – Dott.ssa Fulvia D’Elia\n\n 
URL:https://www.mediazioneiris.com/event/mediazione-familiare-e-coordinazione-genitoriale/
LOCATION:Studio IRIS – sede Taranto\, c/o PAM \, Via Cagliari 30\, TARANTO
CATEGORIES:Formazione,Supervisione
END:VEVENT
BEGIN:VEVENT
DTSTART;TZID=UTC:20241202T093000
DTEND;TZID=UTC:20241202T123000
DTSTAMP:20260420T171754
CREATED:20240509T173619Z
LAST-MODIFIED:20240509T173619Z
UID:4766-1733131800-1733142600@www.mediazioneiris.com
SUMMARY:SUPERVISIONE PROFESSIONALE MEDIATORI FAMILIARI
DESCRIPTION:
URL:https://www.mediazioneiris.com/event/supervisione-professionale-mediatori-familiari-21/
CATEGORIES:Supervisione
END:VEVENT
BEGIN:VEVENT
DTSTART;TZID=UTC:20241109T090000
DTEND;TZID=UTC:20241109T130000
DTSTAMP:20260420T171754
CREATED:20240509T173506Z
LAST-MODIFIED:20240509T173507Z
UID:4764-1731142800-1731157200@www.mediazioneiris.com
SUMMARY:SUPERVISIONE PROFESSIONALE MEDIATORI FAMILIARI
DESCRIPTION:
URL:https://www.mediazioneiris.com/event/supervisione-professionale-mediatori-familiari-20/
CATEGORIES:Supervisione
END:VEVENT
BEGIN:VEVENT
DTSTART;TZID=UTC:20241026T150000
DTEND;TZID=UTC:20241026T190000
DTSTAMP:20260420T171754
CREATED:20240509T173901Z
LAST-MODIFIED:20240826T100624Z
UID:4770-1729954800-1729969200@www.mediazioneiris.com
SUMMARY:SUPERVISIONE PROFESSIONALE MEDIATORI FAMILIARI
DESCRIPTION:
URL:https://www.mediazioneiris.com/event/supervisione-professionale-mediatori-familiari-23/
LOCATION:Studio IRIS c/o Domus Australia\, Via Cernaia 14/b\, Roma\, 00185\, Italia
CATEGORIES:Supervisione
END:VEVENT
BEGIN:VEVENT
DTSTART;TZID=UTC:20240902T150000
DTEND;TZID=UTC:20240902T190000
DTSTAMP:20260420T171754
CREATED:20240509T173340Z
LAST-MODIFIED:20240826T100502Z
UID:4762-1725289200-1725303600@www.mediazioneiris.com
SUMMARY:SUPERVISIONE PROFESSIONALE MEDIATORI FAMILIARI
DESCRIPTION:
URL:https://www.mediazioneiris.com/event/supervisione-professionale-mediatori-familiari-19/
CATEGORIES:Supervisione
END:VEVENT
BEGIN:VEVENT
DTSTART;TZID=UTC:20240831T150000
DTEND;TZID=UTC:20240831T190000
DTSTAMP:20260420T171754
CREATED:20240509T173741Z
LAST-MODIFIED:20240826T100326Z
UID:4768-1725116400-1725130800@www.mediazioneiris.com
SUMMARY:SUPERVISIONE PROFESSIONALE MEDIATORI FAMILIARI
DESCRIPTION:
URL:https://www.mediazioneiris.com/event/supervisione-professionale-mediatori-familiari-22/
LOCATION:Studio IRIS | Giardino dell’Arte della Mediazione\, viale dell'Ateneo Lucano 3\, Potenza\, 85100\, Italia
CATEGORIES:Supervisione
END:VEVENT
BEGIN:VEVENT
DTSTART;TZID=UTC:20240712T093000
DTEND;TZID=UTC:20240712T123000
DTSTAMP:20260420T171754
CREATED:20240509T173218Z
LAST-MODIFIED:20240509T173218Z
UID:4759-1720776600-1720787400@www.mediazioneiris.com
SUMMARY:SUPERVISIONE PROFESSIONALE MEDIATORI FAMILIARI
DESCRIPTION:
URL:https://www.mediazioneiris.com/event/supervisione-professionale-mediatori-familiari-18/
CATEGORIES:Supervisione
END:VEVENT
BEGIN:VEVENT
DTSTART;TZID=UTC:20240414T150000
DTEND;TZID=UTC:20240414T190000
DTSTAMP:20260420T171754
CREATED:20240113T102440Z
LAST-MODIFIED:20240207T090611Z
UID:4371-1713106800-1713121200@www.mediazioneiris.com
SUMMARY:SUPERVISIONE PROFESSIONALE MEDIATORI FAMILIARI
DESCRIPTION:
URL:https://www.mediazioneiris.com/event/supervisione-professionale-mediatori-familiari-15/
LOCATION:Studio IRIS c/o Domus Australia\, Via Cernaia 14/b\, Roma\, 00185\, Italia
CATEGORIES:Supervisione
END:VEVENT
BEGIN:VEVENT
DTSTART;TZID=UTC:20240327T150000
DTEND;TZID=UTC:20240327T180000
DTSTAMP:20260420T171754
CREATED:20240113T101858Z
LAST-MODIFIED:20240115T134156Z
UID:4369-1711551600-1711562400@www.mediazioneiris.com
SUMMARY:SUPERVISIONE PROFESSIONALE MEDIATORI FAMILIARI
DESCRIPTION:
URL:https://www.mediazioneiris.com/event/supervisione-professionale-mediatori-familiari-14/
CATEGORIES:Supervisione
END:VEVENT
BEGIN:VEVENT
DTSTART;TZID=UTC:20240226T100000
DTEND;TZID=UTC:20240226T130000
DTSTAMP:20260420T171754
CREATED:20240223T171459Z
LAST-MODIFIED:20240223T171459Z
UID:4604-1708941600-1708952400@www.mediazioneiris.com
SUMMARY:SUPERVISIONE PROFESSIONALE MEDIATORI FAMILIARI
DESCRIPTION:
URL:https://www.mediazioneiris.com/event/supervisione-professionale-mediatori-familiari-16/
CATEGORIES:Supervisione
END:VEVENT
BEGIN:VEVENT
DTSTART;TZID=UTC:20240209T093000
DTEND;TZID=UTC:20240209T133000
DTSTAMP:20260420T171754
CREATED:20240113T101524Z
LAST-MODIFIED:20240124T172001Z
UID:4367-1707471000-1707485400@www.mediazioneiris.com
SUMMARY:SUPERVISIONE PROFESSIONALE MEDIATORI FAMILIARI
DESCRIPTION:Evento riconosciuto AIMeF: \nhttps://www.aimef.it/eventi/dettagli-evento/1474:on-line-supervisione-professionale-di-gruppo-per-mediatori-familiari-66 \n 
URL:https://www.mediazioneiris.com/event/supervisione-professionale-mediatori-familiari-13/
CATEGORIES:Supervisione
END:VEVENT
BEGIN:VEVENT
DTSTART;TZID=UTC:20240129T100000
DTEND;TZID=UTC:20240129T130000
DTSTAMP:20260420T171754
CREATED:20240113T101241Z
LAST-MODIFIED:20240115T134352Z
UID:4364-1706522400-1706533200@www.mediazioneiris.com
SUMMARY:SUPERVISIONE PROFESSIONALE MEDIATORI FAMILIARI
DESCRIPTION:
URL:https://www.mediazioneiris.com/event/supervisione-professionale-mediatori-familiari-12/
CATEGORIES:Supervisione
END:VEVENT
BEGIN:VEVENT
DTSTART;TZID=UTC:20231218T150000
DTEND;TZID=UTC:20231218T190000
DTSTAMP:20260420T171754
CREATED:20231029T110158Z
LAST-MODIFIED:20231029T111239Z
UID:4220-1702911600-1702926000@www.mediazioneiris.com
SUMMARY:Supervisione Professionale Mediatori Familiari
DESCRIPTION:
URL:https://www.mediazioneiris.com/event/supervisione-professionale-mediatori-familiari-11/
CATEGORIES:Supervisione
END:VEVENT
BEGIN:VEVENT
DTSTART;TZID=UTC:20231218T100000
DTEND;TZID=UTC:20231218T130000
DTSTAMP:20260420T171754
CREATED:20231029T104717Z
LAST-MODIFIED:20231029T104718Z
UID:4218-1702893600-1702904400@www.mediazioneiris.com
SUMMARY:Supervisione Professionale Mediatori Familiari
DESCRIPTION:
URL:https://www.mediazioneiris.com/event/supervisione-professionale-mediatori-familiari-10/
CATEGORIES:Supervisione
END:VEVENT
BEGIN:VEVENT
DTSTART;TZID=UTC:20231129T100000
DTEND;TZID=UTC:20231129T130000
DTSTAMP:20260420T171754
CREATED:20231029T104558Z
LAST-MODIFIED:20231029T104558Z
UID:4216-1701252000-1701262800@www.mediazioneiris.com
SUMMARY:Supervisione Professionale Mediatori Familiari
DESCRIPTION:
URL:https://www.mediazioneiris.com/event/supervisione-professionale-mediatori-familiari-9/
CATEGORIES:Supervisione
END:VEVENT
BEGIN:VEVENT
DTSTART;TZID=UTC:20231025T100000
DTEND;TZID=UTC:20231025T130000
DTSTAMP:20260420T171754
CREATED:20231029T104430Z
LAST-MODIFIED:20231029T104430Z
UID:4213-1698228000-1698238800@www.mediazioneiris.com
SUMMARY:Supervisione Professionale Mediatori Familiari
DESCRIPTION:
URL:https://www.mediazioneiris.com/event/supervisione-professionale-mediatori-familiari-8/
CATEGORIES:Supervisione
END:VEVENT
BEGIN:VEVENT
DTSTART;TZID=UTC:20230915T093000
DTEND;TZID=UTC:20230915T123000
DTSTAMP:20260420T171754
CREATED:20230530T173805Z
LAST-MODIFIED:20230730T155149Z
UID:4127-1694770200-1694781000@www.mediazioneiris.com
SUMMARY:SUPERVISIONE PROFESSIONALE MEDIATORI FAMILIARI
DESCRIPTION:
URL:https://www.mediazioneiris.com/event/supervisione-professionale-mediatori-familiari-7/
CATEGORIES:Supervisione
END:VEVENT
BEGIN:VEVENT
DTSTART;TZID=UTC:20230626T100000
DTEND;TZID=UTC:20230626T130000
DTSTAMP:20260420T171754
CREATED:20230530T173417Z
LAST-MODIFIED:20230530T173418Z
UID:4124-1687773600-1687784400@www.mediazioneiris.com
SUMMARY:SUPERVISIONE PROFESSIONALE MEDIATORI FAMILIARI
DESCRIPTION:
URL:https://www.mediazioneiris.com/event/supervisione-professionale-mediatori-familiari-6/
CATEGORIES:Supervisione
END:VEVENT
BEGIN:VEVENT
DTSTART;TZID=UTC:20221216T150000
DTEND;TZID=UTC:20221216T170000
DTSTAMP:20260420T171754
CREATED:20221119T194931Z
LAST-MODIFIED:20221129T235035Z
UID:4065-1671202800-1671210000@www.mediazioneiris.com
SUMMARY:SUPERVISIONE PROFESSIONALE PER MEDIATORI FAMILIARI A.I.Me.F.
DESCRIPTION:INCONTRO DI SUPERVISIONE PROFESSIONALE DI GRUPPO PER MEDIATORI FAMILIARI A.I.Me.F. \nVenerdì 16 Dicembre 2022 ORE 15.00/17.00 | sede: TARANTO\, Via Cagliari 30 \nSUPERVISORE PROFESSIONALE A.I.Me.F. : dott. Giuseppe Carli
URL:https://www.mediazioneiris.com/event/supervisione-professionale-per-mediatori-familiari-a-i-me-f-2/
LOCATION:Studio IRIS – sede Taranto\, c/o PAM \, Via Cagliari 30\, TARANTO
CATEGORIES:Supervisione
END:VEVENT
BEGIN:VEVENT
DTSTART;TZID=UTC:20221212T100000
DTEND;TZID=UTC:20221212T130000
DTSTAMP:20260420T171754
CREATED:20221119T192640Z
LAST-MODIFIED:20221129T234936Z
UID:4063-1670839200-1670850000@www.mediazioneiris.com
SUMMARY:SUPERVISIONE PROFESSIONALE PER MEDIATORI FAMILIARI A.I.Me.F.
DESCRIPTION:INCONTRO DI SUPERVISIONE PROFESSIONALE DI GRUPPO PER MEDIATORI FAMILIARI A.I.Me.F. \nLunedi 12 Dicembre 2022 ORE 10.00/13.00 | ZOOM meeting \nSUPERVISORE PROFESSIONALE A.I.Me.F. : dott.ssa FRANCESCA GENZANO \n 
URL:https://www.mediazioneiris.com/event/supervisione-professionale-per-mediatori-familiari-a-i-me-f/
CATEGORIES:Supervisione
END:VEVENT
BEGIN:VEVENT
DTSTART;TZID=UTC:20221207T180000
DTEND;TZID=UTC:20221207T200000
DTSTAMP:20260420T171754
CREATED:20221119T192505Z
LAST-MODIFIED:20221129T234850Z
UID:4061-1670436000-1670443200@www.mediazioneiris.com
SUMMARY:SUPERVISIONE PROFESSIONALE MEDIATORI FAMILIARI A.I.Me.F.
DESCRIPTION:INCONTRO DI SUPERVISIONE PROFESSIONALE DI GRUPPO PER MEDIATORI FAMILIARI A.I.Me.F. \nORE 18.00/20.00 | ZOOM meeting \nSUPERVISORE PROFESSIONALE A.I.Me.F. : dott.ssa FRANCESCA GENZANO \n 
URL:https://www.mediazioneiris.com/event/supervisione-professionale-mediatori-familiari-a-i-me-f-13/
CATEGORIES:Supervisione
END:VEVENT
BEGIN:VEVENT
DTSTART;TZID=UTC:20221028T150000
DTEND;TZID=UTC:20221028T190000
DTSTAMP:20260420T171754
CREATED:20220704T165446Z
LAST-MODIFIED:20220704T165447Z
UID:3926-1666969200-1666983600@www.mediazioneiris.com
SUMMARY:SUPERVISIONE PROFESSIONALE MEDIATORI FAMILIARI A.I.Me.F. - Taranto
DESCRIPTION:
URL:https://www.mediazioneiris.com/event/supervisione-professionale-mediatori-familiari-a-i-me-f-taranto-2/
LOCATION:Studio IRIS – sede Taranto\, c/o PAM \, Via Cagliari 30\, TARANTO
CATEGORIES:Supervisione
END:VEVENT
BEGIN:VEVENT
DTSTART;TZID=UTC:20221017T180000
DTEND;TZID=UTC:20221017T200000
DTSTAMP:20260420T171754
CREATED:20220531T202645Z
LAST-MODIFIED:20220531T202645Z
UID:3901-1666029600-1666036800@www.mediazioneiris.com
SUMMARY:SUPERVISIONE PROFESSIONALE MEDIATORI FAMILIARI A.I.Me.F.
DESCRIPTION:
URL:https://www.mediazioneiris.com/event/supervisione-professionale-mediatori-familiari-a-i-me-f-12/
CATEGORIES:Supervisione
END:VEVENT
BEGIN:VEVENT
DTSTART;TZID=UTC:20220923T150000
DTEND;TZID=UTC:20220923T190000
DTSTAMP:20260420T171754
CREATED:20220704T165312Z
LAST-MODIFIED:20220704T165312Z
UID:3923-1663945200-1663959600@www.mediazioneiris.com
SUMMARY:SUPERVISIONE PROFESSIONALE MEDIATORI FAMILIARI A.I.Me.F. - Taranto
DESCRIPTION:
URL:https://www.mediazioneiris.com/event/supervisione-professionale-mediatori-familiari-a-i-me-f-taranto/
CATEGORIES:Supervisione
END:VEVENT
BEGIN:VEVENT
DTSTART;TZID=UTC:20220916T100000
DTEND;TZID=UTC:20220916T130000
DTSTAMP:20260420T171754
CREATED:20220531T202529Z
LAST-MODIFIED:20220531T202529Z
UID:3899-1663322400-1663333200@www.mediazioneiris.com
SUMMARY:SUPERVISIONE PROFESSIONALE MEDIATORI FAMILIARI A.I.Me.F.
DESCRIPTION:
URL:https://www.mediazioneiris.com/event/supervisione-professionale-mediatori-familiari-a-i-me-f-11/
CATEGORIES:Supervisione
END:VEVENT
BEGIN:VEVENT
DTSTART;TZID=UTC:20220909T090000
DTEND;TZID=UTC:20220910T140000
DTSTAMP:20260420T171754
CREATED:20220802T160544Z
LAST-MODIFIED:20220806T152742Z
UID:3961-1662714000-1662818400@www.mediazioneiris.com
SUMMARY:TRAINING IN MEDIAZIONE PENALE | Cagliari
DESCRIPTION:TRAINING IN MEDIAZIONE PENALE CON LA DOTT.SSA FRANCESCA GENZANO \nCAGLIARI 9 e 10 SETTEMBRE 2022
URL:https://www.mediazioneiris.com/event/training-in-mediazione-penale-cagliari/
LOCATION:Studio IRIS – sede Cagliari\, Via San Lucifero n. 65\, CAGLIARI
CATEGORIES:Formazione,Supervisione
END:VEVENT
BEGIN:VEVENT
DTSTART;TZID=UTC:20220713T180000
DTEND;TZID=UTC:20220713T200000
DTSTAMP:20260420T171754
CREATED:20220531T202421Z
LAST-MODIFIED:20220531T202421Z
UID:3897-1657735200-1657742400@www.mediazioneiris.com
SUMMARY:SUPERVISIONE PROFESSIONALE MEDIATORI FAMILIARI A.I.Me.F.
DESCRIPTION:
URL:https://www.mediazioneiris.com/event/supervisione-professionale-mediatori-familiari-a-i-me-f-10/
CATEGORIES:Supervisione
END:VEVENT
END:VCALENDAR