BEGIN:VCALENDAR
VERSION:2.0
PRODID:-//Studio IRIS - ECPv6.6.4.1//NONSGML v1.0//EN
CALSCALE:GREGORIAN
METHOD:PUBLISH
X-ORIGINAL-URL:https://www.mediazioneiris.com
X-WR-CALDESC:Eventi per Studio IRIS
REFRESH-INTERVAL;VALUE=DURATION:PT1H
X-Robots-Tag:noindex
X-PUBLISHED-TTL:PT1H
BEGIN:VTIMEZONE
TZID:UTC
BEGIN:STANDARD
TZOFFSETFROM:+0000
TZOFFSETTO:+0000
TZNAME:UTC
DTSTART:20250101T000000
END:STANDARD
END:VTIMEZONE
BEGIN:VEVENT
DTSTART;TZID=UTC:20260129T143000
DTEND;TZID=UTC:20260129T173000
DTSTAMP:20260420T172026
CREATED:20251124T175748Z
LAST-MODIFIED:20251124T175748Z
UID:5200-1769697000-1769707800@www.mediazioneiris.com
SUMMARY:Corso SPAZI E PROGRAMMI DI GIUSTIZIA RIPARATIVA- SPAZI E SERVIZI PER LE VITTIME
DESCRIPTION:
URL:https://www.mediazioneiris.com/event/corso-spazi-e-programmi-di-giustizia-riparativa-spazi-e-servizi-per-le-vittime-7/
CATEGORIES:Formazione
END:VEVENT
BEGIN:VEVENT
DTSTART;TZID=UTC:20260122T143000
DTEND;TZID=UTC:20260122T173000
DTSTAMP:20260420T172026
CREATED:20251124T175634Z
LAST-MODIFIED:20251124T175634Z
UID:5198-1769092200-1769103000@www.mediazioneiris.com
SUMMARY:Corso SPAZI E PROGRAMMI DI GIUSTIZIA RIPARATIVA- SPAZI E SERVIZI PER LE VITTIME
DESCRIPTION:
URL:https://www.mediazioneiris.com/event/corso-spazi-e-programmi-di-giustizia-riparativa-spazi-e-servizi-per-le-vittime-6/
CATEGORIES:Formazione
END:VEVENT
BEGIN:VEVENT
DTSTART;TZID=UTC:20251219T090000
DTEND;TZID=UTC:20251221T190000
DTSTAMP:20260420T172026
CREATED:20250920T172041Z
LAST-MODIFIED:20251124T180042Z
UID:5125-1766134800-1766343600@www.mediazioneiris.com
SUMMARY:𝐂𝐨𝐫𝐬𝐨 𝐝𝐢 𝐩𝐞𝐫𝐟𝐞𝐳𝐢𝐨𝐧𝐚𝐦𝐞𝐧𝐭𝐨 𝐢𝐧 𝐀𝐑𝐓 𝐂𝐎𝐔𝐍𝐒𝐄𝐋𝐈𝐍𝐆 𝐔𝐌𝐀𝐍𝐈𝐒𝐓𝐈𝐂𝐎 𝐕𝐈𝐓𝐓𝐈𝐌𝐎𝐋𝐎𝐆𝐈𝐂𝐎
DESCRIPTION:Modulo 8) Parte PRATICA IN PRESENZA \n Corso base Metodo Caviardage con Dott.ssa Tina Festa \nStrumenti di scrittura creativa nella relazione d’aiuto alle vittime| Laboratorio di Kintsugi Poetry | Percorso di art counseling umanistico vittimologico con Dott.ssa Francesca Genzano \n 
URL:https://www.mediazioneiris.com/event/%f0%9d%90%82%f0%9d%90%a8%f0%9d%90%ab%f0%9d%90%ac%f0%9d%90%a8-%f0%9d%90%9d%f0%9d%90%a2-%f0%9d%90%a9%f0%9d%90%9e%f0%9d%90%ab%f0%9d%90%9f%f0%9d%90%9e%f0%9d%90%b3%f0%9d%90%a2%f0%9d%90%a8%f0%9d%90%a7-11/
LOCATION:Studio IRIS | Giardino dell’Arte della Mediazione\, viale dell'Ateneo Lucano 3\, Potenza\, 85100\, Italia
CATEGORIES:Formazione
END:VEVENT
BEGIN:VEVENT
DTSTART;TZID=UTC:20251216T143000
DTEND;TZID=UTC:20251216T173000
DTSTAMP:20260420T172026
CREATED:20251124T175529Z
LAST-MODIFIED:20251124T175529Z
UID:5196-1765895400-1765906200@www.mediazioneiris.com
SUMMARY:Corso SPAZI E PROGRAMMI DI GIUSTIZIA RIPARATIVA- SPAZI E SERVIZI PER LE VITTIME
DESCRIPTION:
URL:https://www.mediazioneiris.com/event/corso-spazi-e-programmi-di-giustizia-riparativa-spazi-e-servizi-per-le-vittime-5/
CATEGORIES:Formazione
END:VEVENT
BEGIN:VEVENT
DTSTART;TZID=UTC:20251209T143000
DTEND;TZID=UTC:20251209T173000
DTSTAMP:20260420T172026
CREATED:20251124T175435Z
LAST-MODIFIED:20251124T175435Z
UID:5194-1765290600-1765301400@www.mediazioneiris.com
SUMMARY:Corso SPAZI E PROGRAMMI DI GIUSTIZIA RIPARATIVA- SPAZI E SERVIZI PER LE VITTIME
DESCRIPTION:
URL:https://www.mediazioneiris.com/event/corso-spazi-e-programmi-di-giustizia-riparativa-spazi-e-servizi-per-le-vittime-4/
CATEGORIES:Formazione
END:VEVENT
BEGIN:VEVENT
DTSTART;TZID=UTC:20251205T150000
DTEND;TZID=UTC:20251205T190000
DTSTAMP:20260420T172026
CREATED:20251124T180210Z
LAST-MODIFIED:20251124T180210Z
UID:5204-1764946800-1764961200@www.mediazioneiris.com
SUMMARY:laboratorio - Corso LA MEDIAZIONE FAMILIARE STRUMENTO DI TUTELA DEI FIGLI NEI PROCEDIMENTI DI SEPARAZIONE E DIVORZIO
DESCRIPTION:
URL:https://www.mediazioneiris.com/event/laboratorio-corso-la-mediazione-familiare-strumento-di-tutela-dei-figli-nei-procedimenti-di-separazione-e-divorzio/
LOCATION:Studio IRIS c/o Domus Australia\, Via Cernaia 14/b\, Roma\, 00185\, Italia
CATEGORIES:Formazione
END:VEVENT
BEGIN:VEVENT
DTSTART;TZID=UTC:20251204T143000
DTEND;TZID=UTC:20251204T173000
DTSTAMP:20260420T172026
CREATED:20251124T175110Z
LAST-MODIFIED:20251124T175127Z
UID:5191-1764858600-1764869400@www.mediazioneiris.com
SUMMARY:Corso SPAZI E PROGRAMMI DI GIUSTIZIA RIPARATIVA- SPAZI E SERVIZI PER LE VITTIME
DESCRIPTION:
URL:https://www.mediazioneiris.com/event/corso-spazi-e-programmi-di-giustizia-riparativa-spazi-e-servizi-per-le-vittime-3/
CATEGORIES:Formazione
END:VEVENT
BEGIN:VEVENT
DTSTART;TZID=UTC:20251202T143000
DTEND;TZID=UTC:20251202T173000
DTSTAMP:20260420T172026
CREATED:20251121T152057Z
LAST-MODIFIED:20251121T152057Z
UID:5179-1764685800-1764696600@www.mediazioneiris.com
SUMMARY:Corso SPAZI E PROGRAMMI DI GIUSTIZIA RIPARATIVA-SPAZI SERVIZI VITTIME | progetto IRIDE
DESCRIPTION:
URL:https://www.mediazioneiris.com/event/corso-spazi-e-programmi-di-giustizia-riparativa-spazi-servizi-vittime-progetto-iride/
CATEGORIES:Formazione
END:VEVENT
BEGIN:VEVENT
DTSTART;TZID=UTC:20251128T090000
DTEND;TZID=UTC:20251130T190000
DTSTAMP:20260420T172026
CREATED:20250920T170657Z
LAST-MODIFIED:20251120T085959Z
UID:5123-1764320400-1764529200@www.mediazioneiris.com
SUMMARY:𝐂𝐨𝐫𝐬𝐨 𝐝𝐢 𝐩𝐞𝐫𝐟𝐞𝐳𝐢𝐨𝐧𝐚𝐦𝐞𝐧𝐭𝐨 𝐢𝐧 𝐀𝐑𝐓 𝐂𝐎𝐔𝐍𝐒𝐄𝐋𝐈𝐍𝐆 𝐔𝐌𝐀𝐍𝐈𝐒𝐓𝐈𝐂𝐎 𝐕𝐈𝐓𝐓𝐈𝐌𝐎𝐋𝐎𝐆𝐈𝐂𝐎
DESCRIPTION:Modulo 7) LA FUNZIONE RIPARATIVA DELL’ARTE \n𝐂𝐨𝐫𝐬𝐨 𝐝𝐢 𝐩𝐞𝐫𝐟𝐞𝐳𝐢𝐨𝐧𝐚𝐦𝐞𝐧𝐭𝐨 𝐢𝐧 𝐀𝐑𝐓 𝐂𝐎𝐔𝐍𝐒𝐄𝐋𝐈𝐍𝐆 𝐔𝐌𝐀𝐍𝐈𝐒𝐓𝐈𝐂𝐎 𝐕𝐈𝐓𝐓𝐈𝐌𝐎𝐋𝐎𝐆𝐈𝐂𝐎\n Modulo 7) LA FUNZIONE RIPARATIVA DELL’ARTE  \nVenerdi 28 Novembre 2025 Dott.ssa Francesca Genzano \nL’arte come riparazione. Simboli e metafore. Il percorso di art counseling umanistico vittimologico \nLa funzione riparativa dell’arte nella Giustizia Riparativa \nSabato 29 Novembre 2025| Dott.ssa Gabriella Costa D’Amore \nL’impatto del processo creativo-trasformativo sulla persona \nMetodo Art Espressivo Simbolico® di Gabriella Costa D’Amore \nDomenica 30 Novembre 2025 | Dott.ssa Letizia Rivolta e Dott.ssa Simona Fornaroli \n“SquarciArte – L’arte tra le crepe” – Laboratorio di Metodo Caviardage e Zentangle Method \n  \n\n 
URL:https://www.mediazioneiris.com/event/%f0%9d%90%82%f0%9d%90%a8%f0%9d%90%ab%f0%9d%90%ac%f0%9d%90%a8-%f0%9d%90%9d%f0%9d%90%a2-%f0%9d%90%a9%f0%9d%90%9e%f0%9d%90%ab%f0%9d%90%9f%f0%9d%90%9e%f0%9d%90%b3%f0%9d%90%a2%f0%9d%90%a8%f0%9d%90%a7-10/
CATEGORIES:Formazione
END:VEVENT
BEGIN:VEVENT
DTSTART;TZID=UTC:20251127T143000
DTEND;TZID=UTC:20251127T173000
DTSTAMP:20260420T172026
CREATED:20251124T174949Z
LAST-MODIFIED:20251124T174950Z
UID:5189-1764253800-1764264600@www.mediazioneiris.com
SUMMARY:Corso SPAZI E PROGRAMMI DI GIUSTIZIA RIPARATIVA- SPAZI E SERVIZI PER LE VITTIME
DESCRIPTION:
URL:https://www.mediazioneiris.com/event/corso-spazi-e-programmi-di-giustizia-riparativa-spazi-e-servizi-per-le-vittime-2/
CATEGORIES:Formazione
END:VEVENT
BEGIN:VEVENT
DTSTART;TZID=UTC:20251118T093000
DTEND;TZID=UTC:20251118T133000
DTSTAMP:20260420T172026
CREATED:20251114T203615Z
LAST-MODIFIED:20251114T203615Z
UID:5157-1763458200-1763472600@www.mediazioneiris.com
SUMMARY:Corso SPAZI E PROGRAMMI DI GIUSTIZIA RIPARATIVA- SPAZI E SERVIZI PER LE VITTIME
DESCRIPTION:
URL:https://www.mediazioneiris.com/event/corso-spazi-e-programmi-di-giustizia-riparativa-spazi-e-servizi-per-le-vittime/
CATEGORIES:Formazione
END:VEVENT
BEGIN:VEVENT
DTSTART;TZID=UTC:20251115T150000
DTEND;TZID=UTC:20251115T190000
DTSTAMP:20260420T172026
CREATED:20250920T173121Z
LAST-MODIFIED:20250920T173122Z
UID:5133-1763218800-1763233200@www.mediazioneiris.com
SUMMARY:Corso LA MEDIAZIONE FAMILIARE STRUMENTO DI TUTELA DEI FIGLI NEI PROCEDIMENTI DI SEPARAZIONE E DIVORZIO
DESCRIPTION:
URL:https://www.mediazioneiris.com/event/corso-la-mediazione-familiare-strumento-di-tutela-dei-figli-nei-procedimenti-di-separazione-e-divorzio-8/
LOCATION:Studio IRIS c/o Domus Australia\, Via Cernaia 14/b\, Roma\, 00185\, Italia
CATEGORIES:Formazione
END:VEVENT
BEGIN:VEVENT
DTSTART;TZID=UTC:20251107T090000
DTEND;TZID=UTC:20251109T190000
DTSTAMP:20260420T172026
CREATED:20250818T192415Z
LAST-MODIFIED:20250907T181612Z
UID:5078-1762506000-1762714800@www.mediazioneiris.com
SUMMARY:𝐂𝐨𝐫𝐬𝐨 𝐝𝐢 𝐩𝐞𝐫𝐟𝐞𝐳𝐢𝐨𝐧𝐚𝐦𝐞𝐧𝐭𝐨 𝐢𝐧 𝐀𝐑𝐓 𝐂𝐎𝐔𝐍𝐒𝐄𝐋𝐈𝐍𝐆 𝐔𝐌𝐀𝐍𝐈𝐒𝐓𝐈𝐂𝐎 𝐕𝐈𝐓𝐓𝐈𝐌𝐎𝐋𝐎𝐆𝐈𝐂𝐎 
DESCRIPTION:𝐂𝐨𝐫𝐬𝐨 𝐝𝐢 𝐩𝐞𝐫𝐟𝐞𝐳𝐢𝐨𝐧𝐚𝐦𝐞𝐧𝐭𝐨 𝐢𝐧 𝐀𝐑𝐓 𝐂𝐎𝐔𝐍𝐒𝐄𝐋𝐈𝐍𝐆 𝐔𝐌𝐀𝐍𝐈𝐒𝐓𝐈𝐂𝐎 𝐕𝐈𝐓𝐓𝐈𝐌𝐎𝐋𝐎𝐆𝐈𝐂𝐎  𝐎𝐩𝐞𝐫𝐚𝐭𝐨𝐫𝐞 𝐞𝐬𝐩𝐞𝐫𝐭𝐨 𝐧𝐞𝐥𝐥’𝐚𝐬𝐜𝐨𝐥𝐭𝐨 𝐞 𝐧𝐞𝐥𝐥𝐚 𝐫𝐞𝐥𝐚𝐳𝐢𝐨𝐧𝐞 𝐝’𝐚𝐢𝐮𝐭𝐨 𝐚𝐥𝐥𝐞 𝐯𝐢𝐭𝐭𝐢𝐦𝐞 𝐝𝐢 𝐫𝐞𝐚𝐭𝐨 
URL:https://www.mediazioneiris.com/event/%f0%9d%90%82%f0%9d%90%a8%f0%9d%90%ab%f0%9d%90%ac%f0%9d%90%a8-%f0%9d%90%9d%f0%9d%90%a2-%f0%9d%90%a9%f0%9d%90%9e%f0%9d%90%ab%f0%9d%90%9f%f0%9d%90%9e%f0%9d%90%b3%f0%9d%90%a2%f0%9d%90%a8%f0%9d%90%a7/
CATEGORIES:Formazione
END:VEVENT
BEGIN:VEVENT
DTSTART;TZID=UTC:20251031T090000
DTEND;TZID=UTC:20251031T190000
DTSTAMP:20260420T172026
CREATED:20250920T165031Z
LAST-MODIFIED:20250920T165603Z
UID:5115-1761901200-1761937200@www.mediazioneiris.com
SUMMARY:𝐂𝐨𝐫𝐬𝐨 𝐝𝐢 𝐩𝐞𝐫𝐟𝐞𝐳𝐢𝐨𝐧𝐚𝐦𝐞𝐧𝐭𝐨 𝐢𝐧 𝐀𝐑𝐓 𝐂𝐎𝐔𝐍𝐒𝐄𝐋𝐈𝐍𝐆 𝐔𝐌𝐀𝐍𝐈𝐒𝐓𝐈𝐂𝐎 𝐕𝐈𝐓𝐓𝐈𝐌𝐎𝐋𝐎𝐆𝐈𝐂𝐎
DESCRIPTION:Modulo 4) ELEMENTI DI VITTIMOLOGIA \n𝐂𝐨𝐫𝐬𝐨 𝐝𝐢 𝐩𝐞𝐫𝐟𝐞𝐳𝐢𝐨𝐧𝐚𝐦𝐞𝐧𝐭𝐨 𝐢𝐧 𝐀𝐑𝐓 𝐂𝐎𝐔𝐍𝐒𝐄𝐋𝐈𝐍𝐆 𝐔𝐌𝐀𝐍𝐈𝐒𝐓𝐈𝐂𝐎 𝐕𝐈𝐓𝐓𝐈𝐌𝐎𝐋𝐎𝐆𝐈𝐂𝐎 \n 
URL:https://www.mediazioneiris.com/event/%f0%9d%90%82%f0%9d%90%a8%f0%9d%90%ab%f0%9d%90%ac%f0%9d%90%a8-%f0%9d%90%9d%f0%9d%90%a2-%f0%9d%90%a9%f0%9d%90%9e%f0%9d%90%ab%f0%9d%90%9f%f0%9d%90%9e%f0%9d%90%b3%f0%9d%90%a2%f0%9d%90%a8%f0%9d%90%a7-8/
CATEGORIES:Formazione
END:VEVENT
BEGIN:VEVENT
DTSTART;TZID=UTC:20251026T090000
DTEND;TZID=UTC:20251026T190000
DTSTAMP:20260420T172026
CREATED:20250920T165000Z
LAST-MODIFIED:20250920T165000Z
UID:5113-1761469200-1761505200@www.mediazioneiris.com
SUMMARY:𝐂𝐨𝐫𝐬𝐨 𝐝𝐢 𝐩𝐞𝐫𝐟𝐞𝐳𝐢𝐨𝐧𝐚𝐦𝐞𝐧𝐭𝐨 𝐢𝐧 𝐀𝐑𝐓 𝐂𝐎𝐔𝐍𝐒𝐄𝐋𝐈𝐍𝐆 𝐔𝐌𝐀𝐍𝐈𝐒𝐓𝐈𝐂𝐎 𝐕𝐈𝐓𝐓𝐈𝐌𝐎𝐋𝐎𝐆𝐈𝐂𝐎
DESCRIPTION:Modulo 4) ELEMENTI DI VITTIMOLOGIA \n𝐂𝐨𝐫𝐬𝐨 𝐝𝐢 𝐩𝐞𝐫𝐟𝐞𝐳𝐢𝐨𝐧𝐚𝐦𝐞𝐧𝐭𝐨 𝐢𝐧 𝐀𝐑𝐓 𝐂𝐎𝐔𝐍𝐒𝐄𝐋𝐈𝐍𝐆 𝐔𝐌𝐀𝐍𝐈𝐒𝐓𝐈𝐂𝐎 𝐕𝐈𝐓𝐓𝐈𝐌𝐎𝐋𝐎𝐆𝐈𝐂𝐎
URL:https://www.mediazioneiris.com/event/%f0%9d%90%82%f0%9d%90%a8%f0%9d%90%ab%f0%9d%90%ac%f0%9d%90%a8-%f0%9d%90%9d%f0%9d%90%a2-%f0%9d%90%a9%f0%9d%90%9e%f0%9d%90%ab%f0%9d%90%9f%f0%9d%90%9e%f0%9d%90%b3%f0%9d%90%a2%f0%9d%90%a8%f0%9d%90%a7-7/
CATEGORIES:Formazione
END:VEVENT
BEGIN:VEVENT
DTSTART;TZID=UTC:20251025T090000
DTEND;TZID=UTC:20251025T190000
DTSTAMP:20260420T172026
CREATED:20250920T164131Z
LAST-MODIFIED:20250920T164815Z
UID:5109-1761382800-1761418800@www.mediazioneiris.com
SUMMARY:𝐂𝐨𝐫𝐬𝐨 𝐝𝐢 𝐩𝐞𝐫𝐟𝐞𝐳𝐢𝐨𝐧𝐚𝐦𝐞𝐧𝐭𝐨 𝐢𝐧 𝐀𝐑𝐓 𝐂𝐎𝐔𝐍𝐒𝐄𝐋𝐈𝐍𝐆 𝐔𝐌𝐀𝐍𝐈𝐒𝐓𝐈𝐂𝐎 𝐕𝐈𝐓𝐓𝐈𝐌𝐎𝐋𝐎𝐆𝐈𝐂𝐎
DESCRIPTION:Modulo 3) ELEMENTI DI MEDIAZIONE \n𝐂𝐨𝐫𝐬𝐨 𝐝𝐢 𝐩𝐞𝐫𝐟𝐞𝐳𝐢𝐨𝐧𝐚𝐦𝐞𝐧𝐭𝐨 𝐢𝐧 𝐀𝐑𝐓 𝐂𝐎𝐔𝐍𝐒𝐄𝐋𝐈𝐍𝐆 𝐔𝐌𝐀𝐍𝐈𝐒𝐓𝐈𝐂𝐎 𝐕𝐈𝐓𝐓𝐈𝐌𝐎𝐋𝐎𝐆𝐈𝐂𝐎
URL:https://www.mediazioneiris.com/event/%f0%9d%90%82%f0%9d%90%a8%f0%9d%90%ab%f0%9d%90%ac%f0%9d%90%a8-%f0%9d%90%9d%f0%9d%90%a2-%f0%9d%90%a9%f0%9d%90%9e%f0%9d%90%ab%f0%9d%90%9f%f0%9d%90%9e%f0%9d%90%b3%f0%9d%90%a2%f0%9d%90%a8%f0%9d%90%a7-6/
CATEGORIES:Formazione
END:VEVENT
BEGIN:VEVENT
DTSTART;TZID=UTC:20251024T080000
DTEND;TZID=UTC:20251024T170000
DTSTAMP:20260420T172026
CREATED:20250920T172913Z
LAST-MODIFIED:20250920T184427Z
UID:5131-1761292800-1761325200@www.mediazioneiris.com
SUMMARY:Corso LA MEDIAZIONE FAMILIARE STRUMENTO DI TUTELA DEI FIGLI NEI PROCEDIMENTI DI SEPARAZIONE E DIVORZIO
DESCRIPTION:Corso di aggiornamento professionale \n“LA MEDIAZIONE FAMILIARE STRUMENTO DI TUTELA DEI FIGLI NEI PROCEDIMENTI DI SEPARAZIONE E DIVORZIO\, \nALLA LUCE DELLA RIFORMA CARTABIA”
URL:https://www.mediazioneiris.com/event/corso-la-mediazione-familiare-strumento-di-tutela-dei-figli-nei-procedimenti-di-separazione-e-divorzio-7/
CATEGORIES:Formazione
END:VEVENT
BEGIN:VEVENT
DTSTART;TZID=UTC:20251018T093000
DTEND;TZID=UTC:20251018T133000
DTSTAMP:20260420T172026
CREATED:20250920T172624Z
LAST-MODIFIED:20250920T172641Z
UID:5127-1760779800-1760794200@www.mediazioneiris.com
SUMMARY:Corso LA MEDIAZIONE FAMILIARE STRUMENTO DI TUTELA DEI FIGLI NEI PROCEDIMENTI DI SEPARAZIONE E DIVORZIO
DESCRIPTION:Corso di aggiornamento professionale \n“LA MEDIAZIONE FAMILIARE STRUMENTO DI TUTELA DEI FIGLI NEI PROCEDIMENTI DI SEPARAZIONE E DIVORZIO\,  \nALLA LUCE DELLA RIFORMA CARTABIA”
URL:https://www.mediazioneiris.com/event/corso-la-mediazione-familiare-strumento-di-tutela-dei-figli/
CATEGORIES:Formazione
END:VEVENT
BEGIN:VEVENT
DTSTART;TZID=UTC:20251012T090000
DTEND;TZID=UTC:20251012T190000
DTSTAMP:20260420T172026
CREATED:20250920T164043Z
LAST-MODIFIED:20250920T164043Z
UID:5107-1760259600-1760295600@www.mediazioneiris.com
SUMMARY:𝐂𝐨𝐫𝐬𝐨 𝐝𝐢 𝐩𝐞𝐫𝐟𝐞𝐳𝐢𝐨𝐧𝐚𝐦𝐞𝐧𝐭𝐨 𝐢𝐧 𝐀𝐑𝐓 𝐂𝐎𝐔𝐍𝐒𝐄𝐋𝐈𝐍𝐆 𝐔𝐌𝐀𝐍𝐈𝐒𝐓𝐈𝐂𝐎 𝐕𝐈𝐓𝐓𝐈𝐌𝐎𝐋𝐎𝐆𝐈𝐂𝐎
DESCRIPTION:
URL:https://www.mediazioneiris.com/event/%f0%9d%90%82%f0%9d%90%a8%f0%9d%90%ab%f0%9d%90%ac%f0%9d%90%a8-%f0%9d%90%9d%f0%9d%90%a2-%f0%9d%90%a9%f0%9d%90%9e%f0%9d%90%ab%f0%9d%90%9f%f0%9d%90%9e%f0%9d%90%b3%f0%9d%90%a2%f0%9d%90%a8%f0%9d%90%a7-5/
CATEGORIES:Formazione
END:VEVENT
BEGIN:VEVENT
DTSTART;TZID=UTC:20251011T090000
DTEND;TZID=UTC:20251011T190000
DTSTAMP:20260420T172026
CREATED:20250920T163815Z
LAST-MODIFIED:20250920T163816Z
UID:5105-1760173200-1760209200@www.mediazioneiris.com
SUMMARY:𝐂𝐨𝐫𝐬𝐨 𝐝𝐢 𝐩𝐞𝐫𝐟𝐞𝐳𝐢𝐨𝐧𝐚𝐦𝐞𝐧𝐭𝐨 𝐢𝐧 𝐀𝐑𝐓 𝐂𝐎𝐔𝐍𝐒𝐄𝐋𝐈𝐍𝐆 𝐔𝐌𝐀𝐍𝐈𝐒𝐓𝐈𝐂𝐎 𝐕𝐈𝐓𝐓𝐈𝐌𝐎𝐋𝐎𝐆𝐈𝐂𝐎
DESCRIPTION:Modulo 2) ELEMENTI DI COUNSELING \n Corso di perfezionamento in ART COUNSELING UMANISTICO VITTIMOLOGICO  \n𝑶𝒑𝒆𝒓𝒂𝒕𝒐𝒓𝒆 𝒆𝒔𝒑𝒆𝒓𝒕𝒐 𝒏𝒆𝒍𝒍’𝒂𝒔𝒄𝒐𝒍𝒕𝒐 𝒆 𝒏𝒆𝒍𝒍𝒂 𝒓𝒆𝒍𝒂𝒛𝒊𝒐𝒏𝒆 𝒅’𝒂𝒊𝒖𝒕𝒐 𝒂𝒍𝒍𝒆 𝒗𝒊𝒕𝒕𝒊𝒎𝒆 𝒅𝒊 𝒓𝒆𝒂𝒕𝒐.
URL:https://www.mediazioneiris.com/event/%f0%9d%90%82%f0%9d%90%a8%f0%9d%90%ab%f0%9d%90%ac%f0%9d%90%a8-%f0%9d%90%9d%f0%9d%90%a2-%f0%9d%90%a9%f0%9d%90%9e%f0%9d%90%ab%f0%9d%90%9f%f0%9d%90%9e%f0%9d%90%b3%f0%9d%90%a2%f0%9d%90%a8%f0%9d%90%a7-2/
CATEGORIES:Formazione
END:VEVENT
BEGIN:VEVENT
DTSTART;TZID=UTC:20251005T090000
DTEND;TZID=UTC:20251005T190000
DTSTAMP:20260420T172026
CREATED:20250818T200634Z
LAST-MODIFIED:20250818T200641Z
UID:5084-1759654800-1759690800@www.mediazioneiris.com
SUMMARY:𝐂𝐨𝐫𝐬𝐨 𝐝𝐢 𝐩𝐞𝐫𝐟𝐞𝐳𝐢𝐨𝐧𝐚𝐦𝐞𝐧𝐭𝐨 𝐢𝐧 𝐀𝐑𝐓 𝐂𝐎𝐔𝐍𝐒𝐄𝐋𝐈𝐍𝐆 𝐔𝐌𝐀𝐍𝐈𝐒𝐓𝐈𝐂𝐎 𝐕𝐈𝐓𝐓𝐈𝐌𝐎𝐋𝐎𝐆𝐈𝐂𝐎 
DESCRIPTION:𝐂𝐨𝐫𝐬𝐨 𝐝𝐢 𝐩𝐞𝐫𝐟𝐞𝐳𝐢𝐨𝐧𝐚𝐦𝐞𝐧𝐭𝐨 𝐢𝐧 𝐀𝐑𝐓 𝐂𝐎𝐔𝐍𝐒𝐄𝐋𝐈𝐍𝐆 𝐔𝐌𝐀𝐍𝐈𝐒𝐓𝐈𝐂𝐎 𝐕𝐈𝐓𝐓𝐈𝐌𝐎𝐋𝐎𝐆𝐈𝐂𝐎
URL:https://www.mediazioneiris.com/event/%f0%9d%90%82%f0%9d%90%a8%f0%9d%90%ab%f0%9d%90%ac%f0%9d%90%a8-%f0%9d%90%9d%f0%9d%90%a2-%f0%9d%90%a9%f0%9d%90%9e%f0%9d%90%ab%f0%9d%90%9f%f0%9d%90%9e%f0%9d%90%b3%f0%9d%90%a2%f0%9d%90%a8%f0%9d%90%a7-4/
CATEGORIES:Formazione
END:VEVENT
BEGIN:VEVENT
DTSTART;TZID=UTC:20250927T090000
DTEND;TZID=UTC:20250927T190000
DTSTAMP:20260420T172026
CREATED:20250818T195834Z
LAST-MODIFIED:20250907T122636Z
UID:5082-1758963600-1758999600@www.mediazioneiris.com
SUMMARY:𝐂𝐨𝐫𝐬𝐨 𝐝𝐢 𝐩𝐞𝐫𝐟𝐞𝐳𝐢𝐨𝐧𝐚𝐦𝐞𝐧𝐭𝐨 𝐢𝐧 𝐀𝐑𝐓 𝐂𝐎𝐔𝐍𝐒𝐄𝐋𝐈𝐍𝐆 𝐔𝐌𝐀𝐍𝐈𝐒𝐓𝐈𝐂𝐎 𝐕𝐈𝐓𝐓𝐈𝐌𝐎𝐋𝐎𝐆𝐈𝐂𝐎 
DESCRIPTION:𝐂𝐨𝐫𝐬𝐨 𝐝𝐢 𝐩𝐞𝐫𝐟𝐞𝐳𝐢𝐨𝐧𝐚𝐦𝐞𝐧𝐭𝐨 𝐢𝐧 𝐀𝐑𝐓 𝐂𝐎𝐔𝐍𝐒𝐄𝐋𝐈𝐍𝐆 𝐔𝐌𝐀𝐍𝐈𝐒𝐓𝐈𝐂𝐎 𝐕𝐈𝐓𝐓𝐈𝐌𝐎𝐋𝐎𝐆𝐈𝐂O\n𝑶𝒑𝒆𝒓𝒂𝒕𝒐𝒓𝒆 𝒆𝒔𝒑𝒆𝒓𝒕𝒐 𝒏𝒆𝒍𝒍’𝒂𝒔𝒄𝒐𝒍𝒕𝒐 𝒆 𝒏𝒆𝒍𝒍𝒂 𝒓𝒆𝒍𝒂𝒛𝒊𝒐𝒏𝒆 𝒅’𝒂𝒊𝒖𝒕𝒐 𝒂𝒍𝒍𝒆 𝒗𝒊𝒕𝒕𝒊𝒎𝒆 𝒅𝒊 𝒓𝒆𝒂𝒕𝒐\n 
URL:https://www.mediazioneiris.com/event/%f0%9d%90%82%f0%9d%90%a8%f0%9d%90%ab%f0%9d%90%ac%f0%9d%90%a8-%f0%9d%90%9d%f0%9d%90%a2-%f0%9d%90%a9%f0%9d%90%9e%f0%9d%90%ab%f0%9d%90%9f%f0%9d%90%9e%f0%9d%90%b3%f0%9d%90%a2%f0%9d%90%a8%f0%9d%90%a7-3/
CATEGORIES:Formazione
END:VEVENT
BEGIN:VEVENT
DTSTART;TZID=UTC:20250923T160000
DTEND;TZID=UTC:20250923T190000
DTSTAMP:20260420T172026
CREATED:20250907T115932Z
LAST-MODIFIED:20250920T184318Z
UID:5092-1758643200-1758654000@www.mediazioneiris.com
SUMMARY:Presentazione a POTENZA Progetto 𝐃𝐢.𝐂𝐨 - 𝐈𝐧𝐟𝐨𝐫𝐦𝐚𝐳𝐢𝐨𝐧𝐞 𝐞 𝐚𝐬𝐬𝐢𝐬𝐭𝐞𝐧𝐳𝐚 𝐚𝐥𝐥𝐞 𝐯𝐢𝐭𝐭𝐢𝐦𝐞: 𝐢𝐥 𝐝𝐢𝐫𝐢𝐭𝐭𝐨 𝐝𝐢 𝐜𝐨𝐦𝐩𝐫𝐞𝐧𝐝𝐞𝐫𝐞 𝐞 𝐝𝐢 𝐞𝐬𝐬𝐞𝐫𝐞 𝐜𝐨𝐦𝐩𝐫𝐞𝐬𝐢
DESCRIPTION:Presentazione del Progetto “𝐃𝐢.𝐂𝐨 – 𝐈𝐧𝐟𝐨𝐫𝐦𝐚𝐳𝐢𝐨𝐧𝐞 𝐞 𝐚𝐬𝐬𝐢𝐬𝐭𝐞𝐧𝐳𝐚 𝐚𝐥𝐥𝐞 𝐯𝐢𝐭𝐭𝐢𝐦𝐞: 𝐢𝐥 𝐝𝐢𝐫𝐢𝐭𝐭𝐨 𝐝𝐢 𝐜𝐨𝐦𝐩𝐫𝐞𝐧𝐝𝐞𝐫𝐞 𝐞 𝐝𝐢 𝐞𝐬𝐬𝐞𝐫𝐞 𝐜𝐨𝐦𝐩𝐫𝐞𝐬𝐢”\n(promosso dalla Regione Basilicata-Direzione Generale per la Salute e le Politiche della persona-Ufficio Sistemi di Welfare\, sostenuto dal Ministero della Giustizia -Dipartimento per gli Affari di Giustizia e realizzato in Basilicata da Studio IRIS)\n 23 𝐒𝐞𝐭𝐭𝐞𝐦𝐛𝐫𝐞 𝟐𝟎𝟐𝟓 𝐨𝐫𝐞 𝟏6.𝟎𝟎 𝐚 Potenza presso Sala Inguscio Regione Basilicata\n\n\nhttp://www.servizivittime.basilicata.it
URL:https://www.mediazioneiris.com/event/presentazione-progetto-%f0%9d%90%83%f0%9d%90%a2-%f0%9d%90%82%f0%9d%90%a8-%f0%9d%90%88%f0%9d%90%a7%f0%9d%90%9f%f0%9d%90%a8%f0%9d%90%ab%f0%9d%90%a6%f0%9d%90%9a%f0%9d%90%b3%f0%9d%90%a2%f0%9d%90%a8/
LOCATION:Regione Basilicata\, Via Verrastro n. 1\, Potenza\, PZ\, 85100\, Italy
CATEGORIES:Conferenza stampa,Evento culturale,Formazione
END:VEVENT
BEGIN:VEVENT
DTSTART;TZID=UTC:20250909T170000
DTEND;TZID=UTC:20250909T190000
DTSTAMP:20260420T172026
CREATED:20250907T115218Z
LAST-MODIFIED:20250907T120002Z
UID:5087-1757437200-1757444400@www.mediazioneiris.com
SUMMARY:Presentazione MATERA 𝐏𝐫𝐨𝐠𝐞𝐭𝐭𝐨 "𝐃𝐈.𝐂𝐎 𝐈𝐧𝐟𝐨𝐫𝐦𝐚𝐳𝐢𝐨𝐧𝐞 𝐞 𝐚𝐬𝐬𝐢𝐬𝐭𝐞𝐧𝐳𝐚 𝐚𝐥𝐥𝐞 𝐯𝐢𝐭𝐭𝐢𝐦𝐞;𝐢𝐥 𝐝𝐢𝐫𝐢𝐭𝐭𝐨 𝐝𝐢 𝐜𝐨𝐦𝐩𝐫𝐞𝐧𝐝𝐞𝐫𝐞 𝐞 𝐝𝐢 𝐞𝐬𝐬𝐞𝐫𝐞 𝐜𝐨𝐦𝐩𝐫𝐞si"
DESCRIPTION:Presentazione del Progetto “𝐃𝐢.𝐂𝐨 – 𝐈𝐧𝐟𝐨𝐫𝐦𝐚𝐳𝐢𝐨𝐧𝐞 𝐞 𝐚𝐬𝐬𝐢𝐬𝐭𝐞𝐧𝐳𝐚 𝐚𝐥𝐥𝐞 𝐯𝐢𝐭𝐭𝐢𝐦𝐞: 𝐢𝐥 𝐝𝐢𝐫𝐢𝐭𝐭𝐨 𝐝𝐢 𝐜𝐨𝐦𝐩𝐫𝐞𝐧𝐝𝐞𝐫𝐞 𝐞 𝐝𝐢 𝐞𝐬𝐬𝐞𝐫𝐞 𝐜𝐨𝐦𝐩𝐫𝐞𝐬𝐢”\n(promosso dalla Regione Basilicata-Direzione Generale per la Salute e le Politiche della persona-Ufficio Sistemi di Welfare\, sostenuto dal Ministero della Giustizia -Dipartimento per gli Affari di Giustizia e realizzato in Basilicata da Studio IRIS)\n 𝟗 𝐒𝐞𝐭𝐭𝐞𝐦𝐛𝐫𝐞 𝟐𝟎𝟐𝟓 𝐨𝐫𝐞 𝟏𝟕.𝟎𝟎 𝐚 𝐌𝐚𝐭𝐞𝐫𝐚 presso Sala Consiliare della Provincia di Matera\n\n\nhttp://www.servizivittime.basilicata.it
URL:https://www.mediazioneiris.com/event/presentazione-%f0%9d%90%8f%f0%9d%90%ab%f0%9d%90%a8%f0%9d%90%a0%f0%9d%90%9e%f0%9d%90%ad%f0%9d%90%ad%f0%9d%90%a8-%f0%9d%90%83%f0%9d%90%88-%f0%9d%90%82%f0%9d%90%8e-%f0%9d%90%88%f0%9d%90%a7%f0%9d%90%9f/
LOCATION:Provincia di Matera\, Via Ridola 60\, Matera
CATEGORIES:Conferenza stampa,Evento culturale,Formazione
END:VEVENT
BEGIN:VEVENT
DTSTART;TZID=UTC:20250901T090000
DTEND;TZID=UTC:20250901T190000
DTSTAMP:20260420T172026
CREATED:20250818T184516Z
LAST-MODIFIED:20250818T191711Z
UID:5076-1756717200-1756753200@www.mediazioneiris.com
SUMMARY:Corso in ART COUNSELING UMANISTICO VITTIMOLOGICO
DESCRIPTION:𝐂𝐨𝐫𝐬𝐨 𝐝𝐢 𝐩𝐞𝐫𝐟𝐞𝐳𝐢𝐨𝐧𝐚𝐦𝐞𝐧𝐭𝐨 𝐢𝐧 𝐀𝐑𝐓 𝐂𝐎𝐔𝐍𝐒𝐄𝐋𝐈𝐍𝐆 𝐔𝐌𝐀𝐍𝐈𝐒𝐓𝐈𝐂𝐎 𝐕𝐈𝐓𝐓𝐈𝐌𝐎𝐋𝐎𝐆𝐈𝐂𝐎  𝐎𝐩𝐞𝐫𝐚𝐭𝐨𝐫𝐞 𝐞𝐬𝐩𝐞𝐫𝐭𝐨 𝐧𝐞𝐥𝐥’𝐚𝐬𝐜𝐨𝐥𝐭𝐨 𝐞 𝐧𝐞𝐥𝐥𝐚 𝐫𝐞𝐥𝐚𝐳𝐢𝐨𝐧𝐞 𝐝’𝐚𝐢𝐮𝐭𝐨 𝐚𝐥𝐥𝐞 𝐯𝐢𝐭𝐭𝐢𝐦𝐞 𝐝𝐢 𝐫𝐞𝐚𝐭𝐨 
URL:https://www.mediazioneiris.com/event/corso-in-art-counseling-umanistico-vittimologico-7/
CATEGORIES:Formazione
END:VEVENT
BEGIN:VEVENT
DTSTART;TZID=UTC:20250712T090000
DTEND;TZID=UTC:20250716T190000
DTSTAMP:20260420T172026
CREATED:20250521T195430Z
LAST-MODIFIED:20250521T195431Z
UID:5058-1752310800-1752692400@www.mediazioneiris.com
SUMMARY:STAGE Giustizia Riparativa _ Matera
DESCRIPTION:
URL:https://www.mediazioneiris.com/event/stage-giustizia-riparativa-_-matera/
LOCATION:Centro per la Giustizia Riparativa _Provincia di Matera\, Via Ridola n.60\, Matera\, Italy
CATEGORIES:Formazione
END:VEVENT
BEGIN:VEVENT
DTSTART;TZID=UTC:20250704T093000
DTEND;TZID=UTC:20250704T190000
DTSTAMP:20260420T172026
CREATED:20250521T194937Z
LAST-MODIFIED:20250521T194937Z
UID:5056-1751621400-1751655600@www.mediazioneiris.com
SUMMARY:CORSO BASE METODO CAVIARDAGE® DI TINA FESTA a Potenza
DESCRIPTION:CORSO BASE METODO CAVIARDAGE® DI TINA FESTA \ncon TINA FESTA a Potenza
URL:https://www.mediazioneiris.com/event/corso-base-metodo-caviardage-di-tina-festa-a-potenza/
LOCATION:Studio IRIS | Giardino dell’Arte della Mediazione\, viale dell'Ateneo Lucano 3\, Potenza\, 85100\, Italia
CATEGORIES:Formazione
END:VEVENT
BEGIN:VEVENT
DTSTART;TZID=UTC:20250704T090000
DTEND;TZID=UTC:20250706T190000
DTSTAMP:20260420T172026
CREATED:20250521T140938Z
LAST-MODIFIED:20250521T141109Z
UID:5048-1751619600-1751828400@www.mediazioneiris.com
SUMMARY:Corso in ART COUNSELING UMANISTICO VITTIMOLOGICO
DESCRIPTION:Corso in ART COUNSELING UMANISTICO VITTIMOLOGICO
URL:https://www.mediazioneiris.com/event/corso-in-art-counseling-umanistico-vittimologico-6/
LOCATION:Studio IRIS | Giardino dell’Arte della Mediazione\, viale dell'Ateneo Lucano 3\, Potenza\, 85100\, Italia
CATEGORIES:Formazione
END:VEVENT
BEGIN:VEVENT
DTSTART;TZID=UTC:20250629T090000
DTEND;TZID=UTC:20250629T190000
DTSTAMP:20260420T172026
CREATED:20250521T141349Z
LAST-MODIFIED:20250525T163139Z
UID:5050-1751187600-1751223600@www.mediazioneiris.com
SUMMARY:Pratica ed esame finale Corso in COORDINAZIONE GENITORIALE
DESCRIPTION:ESAME FINALE del Corso di Alta Formazione in CCORDINAZIONE GENITORIALE  \n 
URL:https://www.mediazioneiris.com/event/pratica-ed-esame-finale-corso-in-coordinazione-genitoriale/
CATEGORIES:Formazione
END:VEVENT
BEGIN:VEVENT
DTSTART;TZID=UTC:20250628T093000
DTEND;TZID=UTC:20250628T190000
DTSTAMP:20260420T172026
CREATED:20250518T175702Z
LAST-MODIFIED:20250519T191057Z
UID:5038-1751103000-1751137200@www.mediazioneiris.com
SUMMARY:workshop IL METODO DELLA COORDINAZIONE GENITORIALE
DESCRIPTION:workshop IL METODO DELLA COORDINAZIONE GENITORIALE\nAttività laboratoriali in presenza su casi teorico-pratici  \n\n\nSede TARANTO \nAPULIA HOTEL TARANTO ARA SOLIS\, Via Calata Penna Dritta\, 2 (località di Lido Azzurro) Taranto \nFormatore: Dott.ssa FULVIA D’ELIA
URL:https://www.mediazioneiris.com/event/5038/
CATEGORIES:Formazione
END:VEVENT
END:VCALENDAR