BEGIN:VCALENDAR
VERSION:2.0
PRODID:-//Studio IRIS - ECPv6.6.4.1//NONSGML v1.0//EN
CALSCALE:GREGORIAN
METHOD:PUBLISH
X-ORIGINAL-URL:https://www.mediazioneiris.com
X-WR-CALDESC:Eventi per Studio IRIS
REFRESH-INTERVAL;VALUE=DURATION:PT1H
X-Robots-Tag:noindex
X-PUBLISHED-TTL:PT1H
BEGIN:VTIMEZONE
TZID:UTC
BEGIN:STANDARD
TZOFFSETFROM:+0000
TZOFFSETTO:+0000
TZNAME:UTC
DTSTART:20260101T000000
END:STANDARD
END:VTIMEZONE
BEGIN:VEVENT
DTSTART;TZID=UTC:20260606T150000
DTEND;TZID=UTC:20260607T140000
DTSTAMP:20260420T154812
CREATED:20260124T083731Z
LAST-MODIFIED:20260124T083731Z
UID:5237-1780758000-1780840800@www.mediazioneiris.com
SUMMARY:Assemblea AIMeF Associazione Italiana Mediatori Familiari ROMA
DESCRIPTION:
URL:https://www.mediazioneiris.com/event/assemblea-aimef-associazione-italiana-mediatori-familiari-roma/
CATEGORIES:Formazione
END:VEVENT
END:VCALENDAR