BEGIN:VCALENDAR
VERSION:2.0
PRODID:-//Studio IRIS - ECPv6.6.4.1//NONSGML v1.0//EN
CALSCALE:GREGORIAN
METHOD:PUBLISH
X-WR-CALNAME:Studio IRIS
X-ORIGINAL-URL:https://www.mediazioneiris.com
X-WR-CALDESC:Eventi per Studio IRIS
REFRESH-INTERVAL;VALUE=DURATION:PT1H
X-Robots-Tag:noindex
X-PUBLISHED-TTL:PT1H
BEGIN:VTIMEZONE
TZID:UTC
BEGIN:STANDARD
TZOFFSETFROM:+0000
TZOFFSETTO:+0000
TZNAME:UTC
DTSTART:20260101T000000
END:STANDARD
END:VTIMEZONE
BEGIN:VEVENT
DTSTART;TZID=UTC:20260403T080000
DTEND;TZID=UTC:20260403T190000
DTSTAMP:20260420T141217
CREATED:20260301T173604Z
LAST-MODIFIED:20260301T173604Z
UID:5274-1775203200-1775242800@www.mediazioneiris.com
SUMMARY:CHIUSURA ISCRIZIONI CORSO UNIBA "Mediatore esperto in programmi di Giustizia Riparativa"
DESCRIPTION:Corso di Alta Formazione \nMediatore esperto in programmi di Giustizia Riparativa (ai sensi del D.Lgs. 150/2022 “Riforma Cartabia” ed aggiornato al Decreto attuativo del Ministero della Giustizia del 9/6/2023)\n\n\n\nPRESENTAZIONE DELLE DOMANDE DI AMMISSIONE ALLA SELEZIONE DAL 2 MARZO 2026 AL 3 APRILE 2026\nhttps://www.uniba.it/it/didattica/corsi-universitari-di-formazione-finalizzata/corsi-e-progetti-di-alta-formazione/2025-2026/mediatore_esperto
URL:https://www.mediazioneiris.com/event/chiusura-iscrizioni-corso-uniba-mediatore-esperto-in-programmi-di-giustizia-riparativa/
CATEGORIES:Formazione
END:VEVENT
END:VCALENDAR